BEGIN:VCALENDAR
VERSION:2.0
PRODID:-//Wetskills Water Challenges - ECPv6.15.20//NONSGML v1.0//EN
CALSCALE:GREGORIAN
METHOD:PUBLISH
X-ORIGINAL-URL:https://wetskills.com
X-WR-CALDESC:Events for Wetskills Water Challenges
REFRESH-INTERVAL;VALUE=DURATION:PT1H
X-Robots-Tag:noindex
X-PUBLISHED-TTL:PT1H
BEGIN:VTIMEZONE
TZID:UTC
BEGIN:STANDARD
TZOFFSETFROM:+0000
TZOFFSETTO:+0000
TZNAME:UTC
DTSTART:20200101T000000
END:STANDARD
END:VTIMEZONE
BEGIN:VEVENT
DTSTART;VALUE=DATE:20210911
DTEND;VALUE=DATE:20210924
DTSTAMP:20260420T125305
CREATED:20210526T205520Z
LAST-MODIFIED:20210924T172604Z
UID:10000124-1631318400-1632441599@wetskills.com
SUMMARY:Wetskills-Romania 2021
DESCRIPTION:About The Event\n[vc_single_image image=”50762″ img_size=”full” qode_css_animation=””][vc_empty_space image_repeat=”no-repeat”]For the fifth time to Romania!\nWetskills Foundation and partners organized the Wetskills Challenge for the fifth time in Bucharest\, Romania. This Wetskills edition in Romania was hosted by the University of Agronomic Sciences and Veterinary Medicine of Bucharest. Other main partners of this event were the Politehnica University of Bucharest and Technical University for Civil Engineering in Bucharest\, the Romanian Water Association\, Apele Romane and the Embassy of The Kingdom of The Netherlands. \nRomania has a very diverse landscape and water system\, with high mountains and the largest Delta of the European Union: Danube Delta. Romania faces challenges in water and wastewater\, in both large urban areas as well as remote rural villages\, and has a large water management experience of dealing with floods and droughts. And the country itself is inspiring and various: From the booming big Bucharest with its historic buildings and churches\, immens large People’s Parliament and the Old City with bars\, pubs as heart of the City to idillic smaller cities and villages in epic Transylvania and more low and dry Wallachia (border to Bulgaria) and the Europe’s largest bioreserve Danube Delta. \nThis edition of Wetskills started on 11 September 2021\, and was taking place in and around to the great city of Bucharest. During the 2-weeks program the participants worked in international\, multidisciplinary teams on real-life water cases. The finals and awarding were during an hybrid workshop with livestream on 22 September. \n[vc_empty_space image_repeat=”no-repeat”]Practical information\n[vc_single_image image=”50762″ img_size=”full” qode_css_animation=””][vc_empty_space image_repeat=”no-repeat”]Draft overall Programme Wetskills-Romania 2021 \nLeaflet Announcement for Participants Wetskills-Romania 2021 \nTerms & Conditions Wetskills-Romania 2021 \n[vc_empty_space image_repeat=”no-repeat”][no_button icon_pack=”font_awesome” fa_icon=”fa-facebook” icon_position=”right” target=”_self” font_weight=”” text=”Attend on Facebook” link=”https://www.facebook.com/events/2007458975975366/” icon_color=”#ffffff”][vc_empty_space image_repeat=”no-repeat”][vc_empty_space image_repeat=”no-repeat”]Follow Wetskills\n[vc_single_image image=”50762″ img_size=”full” qode_css_animation=””][vc_empty_space image_repeat=”no-repeat”][no_icons icon_pack=”font_elegant” fa_icon=”fa-facebook” fa_size=”fa-lg” custom_size=”30″ type=”normal” rotated_shape=”no” icon_shadow=”no” inner_border=”no” back_to_top_icon=”” link=”https://www.facebook.com/Wetskills-496271977097972″ anchor_icon=”” target=”_blank” icon_color=”#0076b2″ hover_icon_color=”#43dbbd” margin=”0px 12px 0px 0px” fe_icon=”social_facebook”]     [no_icons icon_pack=”font_elegant” fa_icon=”fa-twitter” fa_size=”fa-lg” custom_size=”30″ type=”normal” rotated_shape=”no” icon_shadow=”no” inner_border=”no” back_to_top_icon=”” link=”http://twitter.com/wetskills” anchor_icon=”” target=”_blank” icon_color=”#0076b2″ hover_icon_color=”#43dbbd” margin=”0px 12px 0px 0px” fe_icon=”social_twitter”]     [no_icons icon_pack=”font_elegant” fa_icon=”fa-instagram” fa_size=”fa-lg” custom_size=”30″ type=”normal” rotated_shape=”no” icon_shadow=”no” inner_border=”no” back_to_top_icon=”” link=”https://www.instagram.com/wetskills/” anchor_icon=”” target=”_blank” icon_color=”#0076b2″ hover_icon_color=”#43dbbd” margin=”0px 12px 0px 0px” fe_icon=”social_instagram”]     [no_icons icon_pack=”font_elegant” fa_icon=”fa-twitter” fa_size=”fa-lg” custom_size=”30″ type=”normal” rotated_shape=”no” icon_shadow=”no” inner_border=”no” back_to_top_icon=”” link=”https://www.linkedin.com/groups/2949484″ anchor_icon=”” target=”_blank” icon_color=”#0076b2″ hover_icon_color=”#43dbbd” margin=”0px 12px 0px 0px” fe_icon=”social_linkedin”]     [no_icons icon_pack=”font_elegant” fa_icon=”fa-youtube-square” fe_icon=”social_youtube” fa_size=”fa-lg” custom_size=”30″ type=”normal” rotated_shape=”no” icon_shadow=”no” inner_border=”no” back_to_top_icon=”” link=”https://www.youtube.com/channel/UCJmPNM9roCkR1uvgJMHqpvA” anchor_icon=”” target=”_blank” icon_color=”#0076b2″ hover_icon_color=”#43dbbd” margin=”0px 12px 0px 0px”] \n[vc_empty_space image_repeat=”no-repeat”]Joining this Wetskills Event – What do you get?\nA unique learning experience where you will tackle real-life water challenges with your own team!\n♦ You will increase your skills in: international cooperation; problem solving\, cross-cultural and interdisciplinary teamwork\, networking and presenting (pitch & poster);\n♦ You will get the opportunity to connect with other international water students/young professionals;\n♦ You will visit Bucharest and surroundings: water-related\, natural and cultural sites\, and meetings with water experts;\n♦ You will learn\, network and experience more about international and regional water challenges\, the main stakeholders and organisations\, contemporary issues and current business opportunities;\n♦ You will receive a certificate of participation upon completion of the program. \n[vc_gallery type=”image_grid” images=”58731\,58732\,58735\,58734″ img_size=”large” column_number=”4″ grayscale=”no” hover_icon=”none” images_space=”gallery_with_space”][vc_empty_space image_repeat=”no-repeat”]Event Blogs\n[vc_single_image image=”50762″ img_size=”full” qode_css_animation=””][vc_empty_space image_repeat=”no-repeat”][no_blog_list type=”boxes” image_size=”landscape” show_thumbnail=”yes” number_of_columns=”3″ overlay_icon=”1″ order_by=”date” order=”DESC” title_tag=”h5″ display_excerpt=”1″ info_position=”top” post_info_text_transform=”none” post_info_font_weight=”700″ post_info_font_style=”normal” display_category=”0″ display_date=”1″ date_place=”over_title” display_author=”0″ display_comments=”0″ display_button=”1″ icon_pack=”font_elegant” fe_icon=”arrow_right” button_icon_position=”right” number_of_posts=”12″ overlay_color=”rgba(0\,221\,207\,0.59)” category=”wetskills-romania-2021″ text_length=”200″ title_size=”28″ title_color=”#0076b2″ post_info_font_size=”20″ post_info_color=”rgba(0\,221\,207\,0.59)” post_info_font_family=”Montserrat” post_info_letter_spacing=”-0\,5″ date_size=”21″ box_info_padding=”40px 5px 5px 5px” button_text=”READ MORE” button_background_color=”rgba(0\,221\,207\,0.59)” button_hover_background_color=”#0076b2″ button_border_color=”rgba(0\,221\,207\,0.59)” button_hover_border_color=”#0076b2″]Event Cases\n[vc_single_image image=”50762″ img_size=”full” qode_css_animation=””][vc_empty_space image_repeat=”no-repeat”]Case 1: Reducing & repositioning waste streams in the urban area\n\nCase owner: City of Zwolle (The Netherlands)\n \nZwolle explicitly positions circularity\, and works with partners in the region on the transition to a circular economy. The ambition is to become the fourth most circular city of the Netherlands. To achieve this goal\, reducing waste streams is required\, and specially in neighborhoods with blocks of flats this is a challenge. Currently\, households have the option of separating plastic\, paper and residual waste. Residual waste is where the problem arises because it includes many streams that are bundled together as one\, including organic waste. Question of the city is: How can organic waste be separated from the residual waste stream? and what valuable use could be made of it in the city? \nPoster Team 1\n \n[vc_single_image image=”58777″ img_size=”full” onclick=”img_link_large” img_link_target=”_blank” qode_css_animation=””]Case 2: Flash floods inspiration guide\nCase owner: RBA Siret & Blue Deal programme Romania (by Dutch Water Authorities) \nRomania and The Netherlands\, cooperating under the BlueDeal programme\, are water-rich countries with a long-standing history of combatting floods and keep their feet dry. Due to climate change\, both countries are becoming more vulnerable for heavy rainfall. RBA Siret in the Northeastern part of Romania is facing severe flash flood challenges. Especially farmers and inhabitants of small villages suffer. The team is asked to create an ‘Inspiration guide’ to showcase innovative and economic attractive measures against flash floods. This should create more awareness and indicate concrete solutions for all stakeholders in a pilot area. Together with a simple “kitchen table” poster(s) for dialogue\, the Inspiration Guide should contribute to the innovative Integrated Water Resource Management Plan for the pilot area. \nPoster Team 2 \n[vc_single_image image=”58778″ img_size=”full” onclick=”img_link_large” img_link_target=”_blank” qode_css_animation=””]Case 3: Virtual Water flows between Romania and Hungary\nCase owner: Water Footprint Implementation \nIs it possible to use water in places where you are not present at that moment? Yes\, it is! When we consume a product that was produced in a different country or place\, we also virtually consume the water used to produce it. This is what we call ’embedded’ or ‘virtual’ water. When products are traded across the globe\, there is also a trade in virtual water taking place. The Water Footprint\, a method that determines the freshwater use in production processes\, is an excellent tool to provide insights in the virtual water flows between continents\, countries and/or river basins. How can we use the virtual water flow between Romania and Hungary for improving the sustainable freshwater management in both countries? \nPoster Team 3 \n[vc_single_image image=”58775″ img_size=”full” onclick=”img_link_large” img_link_target=”_blank” qode_css_animation=””]Event Partners\n[vc_single_image image=”50762″ img_size=”full” qode_css_animation=””][vc_empty_space image_repeat=”no-repeat”][vc_single_image image=”55394″ img_size=”220×125″ style=”vc_box_rounded” qode_css_animation=””][vc_single_image image=”52431″ img_size=”220×125″ style=”vc_box_rounded” qode_css_animation=””][vc_single_image image=”52434″ img_size=”220×125″ style=”vc_box_rounded” qode_css_animation=””][vc_single_image image=”52433″ img_size=”220×125″ style=”vc_box_rounded” qode_css_animation=””][vc_empty_space image_repeat=”no-repeat”][vc_single_image image=”57038″ img_size=”220×125″ style=”vc_box_rounded” qode_css_animation=””][vc_single_image image=”54957″ img_size=”220×125″ style=”vc_box_rounded” qode_css_animation=””][vc_single_image image=”52334″ img_size=”220×125″ style=”vc_box_rounded” qode_css_animation=””][vc_single_image image=”52243″ img_size=”220×125″ style=”vc_box_rounded” qode_css_animation=””][vc_empty_space image_repeat=”no-repeat”][vc_single_image image=”57644″ img_size=”220×125″ style=”vc_box_rounded” qode_css_animation=””][vc_single_image image=”53102″ img_size=”220×125″ style=”vc_box_rounded” qode_css_animation=””][vc_single_image image=”54106″ img_size=”220×125″ style=”vc_box_rounded” qode_css_animation=””][vc_single_image image=”57060″ img_size=”220×125″ style=”vc_box_rounded” qode_css_animation=””][vc_empty_space image_repeat=”no-repeat”]Previous Wetskills Events in Romania\n[vc_single_image image=”50762″ img_size=”full” qode_css_animation=””][vc_empty_space image_repeat=”no-repeat”][vc_empty_space image_repeat=”no-repeat”]
URL:https://wetskills.com/event/wetskills-romania-2021/
LOCATION:University of Agronomic Sciences and Veterinary Medicine of Bucharest\, Bulevardul MĂRĂŞTI 59\, Bucharest\, 011464\, Romania
CATEGORIES:Past event
ATTACH;FMTTYPE=image/jpeg:https://wetskills.com/wp-content/uploads/2021/05/WetskilsRO21.jpg
ORGANIZER;CN="Floor van der Heijden":MAILTO:floor.van.der.heijden@wetskills.com
END:VEVENT
END:VCALENDAR