BEGIN:VCALENDAR
VERSION:2.0
PRODID:-//Wetskills Water Challenges - ECPv6.15.20//NONSGML v1.0//EN
CALSCALE:GREGORIAN
METHOD:PUBLISH
X-ORIGINAL-URL:https://wetskills.com
X-WR-CALDESC:Events for Wetskills Water Challenges
REFRESH-INTERVAL;VALUE=DURATION:PT1H
X-Robots-Tag:noindex
X-PUBLISHED-TTL:PT1H
BEGIN:VTIMEZONE
TZID:UTC
BEGIN:STANDARD
TZOFFSETFROM:+0000
TZOFFSETTO:+0000
TZNAME:UTC
DTSTART:20200101T000000
END:STANDARD
END:VTIMEZONE
BEGIN:VEVENT
DTSTART;VALUE=DATE:20220917
DTEND;VALUE=DATE:20221001
DTSTAMP:20260420T183725
CREATED:20220429T134847Z
LAST-MODIFIED:20230317T144927Z
UID:10000128-1663372800-1664582399@wetskills.com
SUMMARY:Wetskills-South Africa 2022
DESCRIPTION:About The Event\n[vc_single_image image=”50762″ img_size=”full” qode_css_animation=””][vc_empty_space image_repeat=”no-repeat”]6th South African Wetskills Challenge!\nWe had another great event! An event for students and young professionals from South Africa\, sub-Saharan region and beyond\, who want to make a difference in the water sector\, who like to experience working in an international team and experiencing the culture of South Africa\, and who want to work on challenging water & sustainability issues! At the end of the program\, we visited the WISA Conference\, where all teams presented their ideas for an international jury panel and audience. Read on for blogs\, cases\, posters and more! \nWetskills Foundation and partners were organising Wetskills-South Africa 2022 (period: 17-30 September 2022)\, the sixth Wetskills edition in South Africa! \nPrevious events were in: Cape Town 2012\, Nelspruit 2014\, Durban 2016 and Cape Town 2018. A digital W@tskills edition was organized in 2021\, due to corona pandemic. Read more about the great 2018 finals at the WISA Conference in Cape Town\, in presence of Minister Gugile Nkwinti (Ministry of Water and Sanitation\, South Africa) and Dutch Special Water Envoy Henk Ovink. \n[vc_empty_space image_repeat=”no-repeat”]Participants of Wetskills-South Africa 2022\n[vc_empty_space height=”16px” image_repeat=”no-repeat”][vc_single_image image=”60056″ img_size=”full” qode_css_animation=””][vc_empty_space image_repeat=”no-repeat”]South African Alumni about previous Wetskills Experiences\n[vc_empty_space height=”16px” image_repeat=”no-repeat”]Event Info\n[vc_single_image image=”50762″ img_size=”full” qode_css_animation=””][vc_empty_space image_repeat=”no-repeat”]Programme Wetskills-South Africa 2022 (renewed!) \n[vc_empty_space height=”16px” image_repeat=”no-repeat”]Terms & Conditions Wetskills-South Africa 2022 \n[vc_empty_space height=”16px” image_repeat=”no-repeat”][vc_empty_space image_repeat=”no-repeat”]Follow Wetskills\nFacebookXInstagramLinkedInYouTube\n[vc_empty_space height=”16px” image_repeat=”no-repeat”]Event Cases\n[vc_single_image image=”50762″ img_size=”full” qode_css_animation=””][vc_empty_space image_repeat=”no-repeat”]Case 1: Promoting synergy in the water\, energy and food sectors\nCase owner: Water Research Commission \nThe Water Research Commission (WRC) established the WEF Lighthouse for integrated research\, planning and development in the Water-Energy-Food (WEF) nexus\, for South Africa and the Southern Africa region. Since 2012 the WRC R&D Branch has organized various activities under the banner of the WEF Lighthouse. The concept offers an opportunity for stakeholders\, to promote cross-sectoral\, systematic and integrated management of resources\, and address synergies and trade-offs in the WEF nexus. \nCase 2: Creating more benefits from Assessments\nCase owner: Blue Deal Programme \nSeveral assessments are performed to establish the performance of water and sanitation services\, like the Green Drop and Blue Drop Assessments on the performance\, compliance and efficiency of wastewater and water treatment works (WWTW’s and WTW’s)\, and the  Municipal Structural Self-Assessments (MuSSA). The Blue Deal South Africa Partnership aims to improve the performance of WWTW’s in several municipalities\, and disseminate the lessons learnt to other municipalities. How can the Green Drop Assessments and MuSSA-Assessments be used for a model-based replication of the Blue Deal results? \nCase 3: Empowering water professionals: the importance of training and lifelong learning \nCase owner: World Water Academy \nMunicipalities are faced with many challenges of water supply\, wastewater and urban water management.  Municipalities seem to rely more and more on administrators and finance managers\, but water engineers and operators are of great importance when it comes to critical water and wastewater management and maintenance issues. How could lifelong learning and practical training of water professionals empower engineers\, operators and managers to help improve SA’s water quality? \nPitch & Poster \n[vc_empty_space height=”16px” image_repeat=”no-repeat”][vc_single_image image=”60048″ img_size=”full” onclick=”img_link_large” img_link_target=”_blank” qode_css_animation=””]Pitch & Poster \n[vc_empty_space height=”16px” image_repeat=”no-repeat”][vc_single_image image=”60047″ img_size=”full” onclick=”img_link_large” img_link_target=”_blank” qode_css_animation=””]Pitch & Poster \n[vc_empty_space height=”16px” image_repeat=”no-repeat”][vc_single_image image=”60046″ img_size=”full” onclick=”img_link_large” img_link_target=”_blank” qode_css_animation=””][vc_empty_space image_repeat=”no-repeat”]Case 4: How to diminish the impact of solid waste on water?\nCase owner: Blue Deal Programme \nSolid waste is becoming a growing problem\, also for water. Dumping waste alongside rivers and streams deteriorates the water quality. When discharged into sewers\, it clogs manholes and leads to overflow of the sewers. Especially in informal settlements\, solid waste management becomes a huge task for local municipalities. Are there innovative ideas to persuade communities not to throw their trash ‘over the fence’? How could more environmental awareness within the communities be created and sustained? \nCase 5: Indigenous Knowledge Systems to Respond to Water Vector Diseases\n\nCase owner: Water Research Commission\n \nClimate change is leading to changing weather patterns\, which will most likely effect the occurrence and distribution of a number of water vector diseases. This might change non-endemic areas into endemic areas\, and thereby putting communities at risk. How could medicinal plants and other indigenous knowledge systems in communities be used and stimulated\, in order for communities to better adapt and cope with climate change and reduce their vulnerability to water vector diseases? \nCase 6: Safe Stormwater Use for communities near Roodeplaat Dam\nCase owner: Department of Water and Sanitation\n \nStormwater runoff is often lost into the water drainage system without being filtered\, thereby polluting surface water resources with debris. Roodeplaat Dam is an example of such a water resource\, currently polluted by debris from stormwater drainage from influent rivers. At the same time\, water availability is a challenge in South Africa\, and rainfall is more irregular by changing weather patterns. How could the Department of Water and Sanitation use the stormwater runoff as part of the current water system\, without decreasing water quality of the dam\, to increase water supply to communities? \nPitch & Poster \n[vc_empty_space height=”16px” image_repeat=”no-repeat”][vc_single_image image=”60045″ img_size=”full” onclick=”img_link_large” img_link_target=”_blank” qode_css_animation=””]Pitch & Poster \n[vc_empty_space height=”16px” image_repeat=”no-repeat”][vc_single_image image=”60044″ img_size=”full” onclick=”img_link_large” img_link_target=”_blank” qode_css_animation=””]Pitch & Poster \n[vc_empty_space height=”16px” image_repeat=”no-repeat”][vc_single_image image=”60043″ img_size=”full” onclick=”img_link_large” img_link_target=”_blank” qode_css_animation=””]Watch the event video!\n[vc_single_image image=”50762″ img_size=”full” qode_css_animation=””][vc_empty_space image_repeat=”no-repeat”][vc_empty_space image_repeat=”no-repeat”]The 2018 Programme\n[vc_single_image image=”50762″ img_size=”full” qode_css_animation=””][vc_empty_space image_repeat=”no-repeat”][vc_empty_space image_repeat=”no-repeat”]Event Partners\n[vc_single_image image=”50762″ img_size=”full” qode_css_animation=””][vc_empty_space image_repeat=”no-repeat”][vc_single_image image=”53563″ img_size=”220×125″ style=”vc_box_rounded” qode_css_animation=””][vc_single_image image=”52242″ img_size=”220×125″ style=”vc_box_rounded” qode_css_animation=””][vc_single_image image=”57038″ img_size=”220×125″ style=”vc_box_rounded” qode_css_animation=””][vc_single_image image=”52334″ img_size=”220×125″ style=”vc_box_rounded” qode_css_animation=””][vc_empty_space image_repeat=”no-repeat”][vc_single_image image=”52240″ img_size=”220×125″ style=”vc_box_rounded” qode_css_animation=””][vc_single_image image=”57645″ img_size=”220×125″ style=”vc_box_rounded” qode_css_animation=””][vc_single_image image=”61395″ img_size=”220×125″ style=”vc_box_rounded” qode_css_animation=””][vc_single_image image=”61388″ img_size=”220×125″ style=”vc_box_rounded” qode_css_animation=””][vc_empty_space image_repeat=”no-repeat”][vc_single_image image=”61390″ img_size=”220×125″ style=”vc_box_rounded” qode_css_animation=””][vc_single_image image=”61391″ img_size=”220×125″ style=”vc_box_rounded” qode_css_animation=””][vc_single_image image=”56312″ img_size=”220×125″ style=”vc_box_rounded” qode_css_animation=””][vc_single_image image=”61392″ img_size=”220×125″ style=”vc_box_rounded” qode_css_animation=””][vc_empty_space image_repeat=”no-repeat”]
URL:https://wetskills.com/event/wetskills-south-africa-2022/
LOCATION:Sandton\, Sandton\, Gauteng\, South Africa
CATEGORIES:Past event
ATTACH;FMTTYPE=image/jpeg:https://wetskills.com/wp-content/uploads/2019/12/Gauteng_.jpg
ORGANIZER;CN="Odwa Mtembu":MAILTO:odwa.mtembu@wetskills.com
END:VEVENT
BEGIN:VEVENT
DTSTART;VALUE=DATE:20210225
DTEND;VALUE=DATE:20210310
DTSTAMP:20260420T183725
CREATED:20201217T224127Z
LAST-MODIFIED:20210325T154158Z
UID:10000121-1614211200-1615334399@wetskills.com
SUMMARY:W@tskills-South Africa 2021
DESCRIPTION:About The Event\n[vc_single_image image=”50762″ img_size=”full” qode_css_animation=””][vc_empty_space image_repeat=”no-repeat”]5th Wetskills Water Challenge in South Africa!\nOnline event by Wetskills in cooperation with Department for Water and Sanitation\, Embassy of the Kingdom of The Netherlands\, Water Institute of Southern Africa and Blue Deal programme. \nParticipants were working in mixed teams on challenging water cases\, provided by the Blue deal program\, and other local and international water organizations. \nWetskills is celebrating its 10 Years Jubilee! This was also celebrated  during the online Finals and Awarding Ceremony on 9 March 2021\, where we also memorated previous events in Southern Africa\, with partners and alumni.  \nPrevious events were: Cape Town 2012\, Nelspruit 2014\, Durban 2016 and Cape Town 2018. Read more about the great finals at the WISA 2018 Conference in Cape Town in presence of Minister Gugile Nkwinti of Water and Sanitation of South Africa\, and Dutch Special Water Envoy Henk Ovink. \n[no_blockquote text=”‘It was such a wonderful experience. I am so enthusiastic. I want more..’ 🙂” title_tag=”h3″ show_border=”no” show_quote_icon=”yes” text_color=”#ffffff” background_color=”#43dbbd” width=”95″ line_height=”90″ quote_icon_color=”#0076b2″][vc_empty_space image_repeat=”no-repeat”]Event info\n[vc_single_image image=”50762″ img_size=”full” qode_css_animation=””][vc_empty_space image_repeat=”no-repeat”]Programme W@tskills-South Africa 2021 (draft) \nTerms & Conditions Wetskills-South Africa 2020 \n[vc_empty_space height=”16px” image_repeat=”no-repeat”][no_button icon_pack=”font_awesome” fa_icon=”fa-facebook” icon_position=”right” target=”_self” font_weight=”” text=”Attend on Facebook” link=”https://www.facebook.com/events/816633615443313/” icon_color=”#ffffff”][vc_empty_space height=”16px” image_repeat=”no-repeat”]Follow Wetskills\n[vc_single_image image=”50762″ img_size=”full” qode_css_animation=””][vc_empty_space image_repeat=”no-repeat”]Wetskills leaflet and track record \n[vc_empty_space height=”16px” image_repeat=”no-repeat”][no_icons icon_pack=”font_elegant” fa_icon=”fa-facebook” fa_size=”fa-lg” custom_size=”30″ type=”normal” rotated_shape=”no” icon_shadow=”no” inner_border=”no” back_to_top_icon=”” link=”https://www.facebook.com/Wetskills-496271977097972″ anchor_icon=”” target=”_blank” icon_color=”#0076b2″ hover_icon_color=”#43dbbd” margin=”0px 12px 0px 0px” fe_icon=”social_facebook”]     [no_icons icon_pack=”font_elegant” fa_icon=”fa-twitter” fa_size=”fa-lg” custom_size=”30″ type=”normal” rotated_shape=”no” icon_shadow=”no” inner_border=”no” back_to_top_icon=”” link=”http://twitter.com/wetskills” anchor_icon=”” target=”_blank” icon_color=”#0076b2″ hover_icon_color=”#43dbbd” margin=”0px 12px 0px 0px” fe_icon=”social_twitter”]     [no_icons icon_pack=”font_elegant” fa_icon=”fa-instagram” fa_size=”fa-lg” custom_size=”30″ type=”normal” rotated_shape=”no” icon_shadow=”no” inner_border=”no” back_to_top_icon=”” link=”https://www.instagram.com/wetskills/” anchor_icon=”” target=”_blank” icon_color=”#0076b2″ hover_icon_color=”#43dbbd” margin=”0px 12px 0px 0px” fe_icon=”social_instagram”]     [no_icons icon_pack=”font_elegant” fa_icon=”fa-twitter” fa_size=”fa-lg” custom_size=”30″ type=”normal” rotated_shape=”no” icon_shadow=”no” inner_border=”no” back_to_top_icon=”” link=”https://www.linkedin.com/groups/2949484″ anchor_icon=”” target=”_blank” icon_color=”#0076b2″ hover_icon_color=”#43dbbd” margin=”0px 12px 0px 0px” fe_icon=”social_linkedin”]     [no_icons icon_pack=”font_elegant” fa_icon=”fa-youtube-square” fe_icon=”social_youtube” fa_size=”fa-lg” custom_size=”30″ type=”normal” rotated_shape=”no” icon_shadow=”no” inner_border=”no” back_to_top_icon=”” link=”https://www.youtube.com/channel/UCJmPNM9roCkR1uvgJMHqpvA” anchor_icon=”” target=”_blank” icon_color=”#0076b2″ hover_icon_color=”#43dbbd” margin=”0px 12px 0px 0px”] \n[vc_empty_space height=”16px” image_repeat=”no-repeat”]The 2018 programme\n[vc_single_image image=”50762″ img_size=”full” qode_css_animation=””][vc_empty_space image_repeat=”no-repeat”][vc_empty_space image_repeat=”no-repeat”]The 2018 Finals & Awarding\n[vc_single_image image=”50762″ img_size=”full” qode_css_animation=””][vc_empty_space image_repeat=”no-repeat”][no_image_slider_no_space full_screen=”no” height=”300″ images=”54358\,54360\,54364\,54365\,54366\,54367\,54368\,54369\,54370\,54371″][vc_empty_space image_repeat=”no-repeat”][vc_gallery type=”image_grid” images=”54372\,54373\,54374\,54375\,54376″ column_number=”5″ grayscale=”no” hover_icon=”none” images_space=”gallery_with_space”]Event Cases\n[vc_single_image image=”50762″ img_size=”full” qode_css_animation=””][vc_empty_space image_repeat=”no-repeat”]Case 1: Sustainable empowerment of local community for cleaning rivers\nCase owner: DUCT & Blue Deal South Africa (project uMsunduzi River) \nThe uMsunduzi and Umgeni River systems have become badly degraded through neglect and over exploitation. The mission of the Duzi-uMngeni Conservation Trust (DUCT) is to empower local citizens to be champions of the environment (Enviro-Champs) in their local community. Through a green livelihoods programme\, people living adjacent to rivers are given the responsibility to adopt-a-stretch – cleaning\, maintaining\, greening\, restoring\, and undertaking citizen science monitoring on that section of the river. The challenge that DUCT now faces is how to create a (financially) sustainable business model for the activities. Government\, private\, and civil society partners all have something to give\, and value to gain from being involved. How do we bring this together in a long-term sustainable ‘win-win’ way? \nCase 2: LookSeeDo: Virtual Reality experience for capacitating staff\nCase owner: JumpLoom & Blue Deal South Africa (project Crocodile River) \n\n\n\nSouth Africa is facing an immediate water crisis caused\, by amongst others\, insufficient water infrastructure maintenance\, a lack of investment and inadequate technical skills. Many WWTWs are failing to comply with their stipulated license conditions\, are not “Green Drop certified” as required by the Department of Water and Sanitation\, and at least 30% are at a high risk of failure. One of the key challenges is the lack of ongoing regular and appropriate WWTW staff training. Virtual reality (VR)\, as training and education method\, could bring new opportunities for (cost)effective training provision. Could JumpLoom become a sustainable value-add given the current technical skills challenges in the South African Wastewater sector? \n\n\n\nCase 3: Swamp-friendly Water Hyacinth harvesting\nCase owner: Blue Deal South Africa (project Vaal River) \nThe Vaal river is known for its poor water quality. The Blesbokspruit wetland (BBS)\, located in the Upper Vaal catchment\, is one of the 26 RAMSAR sites in South Africa. The BSS is close to losing its status due to threats of pollution resulting in low water quality. One of the main challenges is the invasive alien species like the water hyacinth\, which is well-known for its fast growing and destructive attitude. The water hyacinth is also a useful plant for improving water quality and purposes as energy production\, water purification and building materials. The main question for the BBS: How can the water hyacinth be prevented spreading or collected in a sustainable and self-supportive way. \nPrevious events in South Africa\n[vc_single_image image=”50762″ img_size=”full” qode_css_animation=””][vc_empty_space image_repeat=”no-repeat”][vc_gallery type=”image_grid” images=”51836\,51834\,51833\,51832″ column_number=”4″ grayscale=”no” hover_icon=”none” images_space=”gallery_with_space”][vc_empty_space image_repeat=”no-repeat”]Event Partners\n[vc_single_image image=”50762″ img_size=”full” qode_css_animation=””][vc_empty_space image_repeat=”no-repeat”][vc_single_image image=”53563″ img_size=”220×125″ style=”vc_box_rounded” qode_css_animation=””][vc_single_image image=”52242″ img_size=”220×125″ style=”vc_box_rounded” qode_css_animation=””][vc_single_image image=”57038″ img_size=”220×125″ style=”vc_box_rounded” qode_css_animation=””][vc_single_image image=”52240″ img_size=”220×125″ style=”vc_box_rounded” qode_css_animation=””][vc_empty_space image_repeat=”no-repeat”][vc_single_image image=”57645″ img_size=”220×125″ style=”vc_box_rounded” qode_css_animation=””][vc_single_image image=”52146″ img_size=”220×125″ style=”vc_box_rounded” qode_css_animation=””][vc_single_image image=”52245″ img_size=”220×125″ style=”vc_box_rounded” qode_css_animation=””][vc_single_image image=”52334″ img_size=”220×125″ style=”vc_box_rounded” qode_css_animation=””][vc_empty_space image_repeat=”no-repeat”]Join this Wetskills event!\n[vc_empty_space height=”16px” image_repeat=”no-repeat”]
URL:https://wetskills.com/event/wetskills-south-africa-2021/
LOCATION:Sandton\, Sandton\, Gauteng\, South Africa
CATEGORIES:Past event
ATTACH;FMTTYPE=image/jpeg:https://wetskills.com/wp-content/uploads/2019/12/Gauteng_.jpg
ORGANIZER;CN="Odwa Mtembu":MAILTO:odwa.mtembu@wetskills.com
END:VEVENT
END:VCALENDAR