BEGIN:VCALENDAR
VERSION:2.0
PRODID:-//Wetskills Water Challenges - ECPv6.15.20//NONSGML v1.0//EN
CALSCALE:GREGORIAN
METHOD:PUBLISH
X-WR-CALNAME:Wetskills Water Challenges
X-ORIGINAL-URL:https://wetskills.com
X-WR-CALDESC:Events for Wetskills Water Challenges
REFRESH-INTERVAL;VALUE=DURATION:PT1H
X-Robots-Tag:noindex
X-PUBLISHED-TTL:PT1H
BEGIN:VTIMEZONE
TZID:Europe/Amsterdam
BEGIN:DAYLIGHT
TZOFFSETFROM:+0100
TZOFFSETTO:+0200
TZNAME:CEST
DTSTART:20220327T010000
END:DAYLIGHT
BEGIN:STANDARD
TZOFFSETFROM:+0200
TZOFFSETTO:+0100
TZNAME:CET
DTSTART:20221030T010000
END:STANDARD
BEGIN:DAYLIGHT
TZOFFSETFROM:+0100
TZOFFSETTO:+0200
TZNAME:CEST
DTSTART:20230326T010000
END:DAYLIGHT
BEGIN:STANDARD
TZOFFSETFROM:+0200
TZOFFSETTO:+0100
TZNAME:CET
DTSTART:20231029T010000
END:STANDARD
BEGIN:DAYLIGHT
TZOFFSETFROM:+0100
TZOFFSETTO:+0200
TZNAME:CEST
DTSTART:20240331T010000
END:DAYLIGHT
BEGIN:STANDARD
TZOFFSETFROM:+0200
TZOFFSETTO:+0100
TZNAME:CET
DTSTART:20241027T010000
END:STANDARD
END:VTIMEZONE
BEGIN:VEVENT
DTSTART;VALUE=DATE:20230311
DTEND;VALUE=DATE:20230323
DTSTAMP:20260420T140235
CREATED:20221201T130643Z
LAST-MODIFIED:20230406T174804Z
UID:10000131-1678492800-1679529599@wetskills.com
SUMMARY:Wetskills-USA 2023 (UN)
DESCRIPTION:About The Event\n[vc_single_image image=”50762″ img_size=”full” qode_css_animation=””]Wetskills event at the UN 2023 Water Conference\nThe United Nations organized the Water Conference 2023 at the UN Headquarters in New York from 22 to 24 March 2023. Tajikistan and The Netherlands were co-hosting this unique water event\, and Henk Ovink\, Dutch Special Envoy International Water Affairs and Wetskills Ambassador\, had invited the Wetskills Team to organize a Water Challenge event during this UN Conference: Wetskills-USA 2023 (UN)! \nOur partners in this event were the UN2023 GameChanger Challenge (UN2023-GCC) by Wavemakers United and IHE Delft\, and the Dutch Ministry of Infrastructure and Water Management. \nThe winning ideas of the UN2023-GCC challenge were adopted as cases for our Wetskills challenge. So\, the Wetskills teams picked up their ideas\, to co-create a first step towards implementation. The ideas were presented at a special workshop on youth engagement during the New York Water Week. \nEvent info\n[vc_single_image image=”50762″ img_size=”full” qode_css_animation=””]Programme Wetskills-USA 2023 \nTerms & Conditions Wetskills-USA 2023 \nAttend on FacebookFollow Wetskills\nFacebookXInstagramLinkedInYouTube\nParticipants of Wetskills-USA (UN) 2023\n[vc_single_image image=”61731″ img_size=”full”]Watch the Video of Wetskills-USA (UN) 2023\nEvent Blogs\nAllWetskills-United States 202313	\n		\n						Reflection Wetskills Team member LoayBlogs\, News\, Wetskills-United States 20233 years agoLoay Alatrash (Wetskills Team member\, World Waternet and Young Expert Programme\, Palestine) Different cultures\, several religions\, divers group for one goal\, Innovation solutions for more clean water. Ten days in New…		\n			\n	\n		\n						Tody was ‘bring and share’ with our cultural foodsBlogs\, Wetskills-United States 20233 years agoWetskills-USA 2023\, by Ayanda Mafunda (Department of Water and Sanitation (SA)) – Today we began the day as we always do\, with the hustle and bustle of catching the train…		\n			\n	\n		\n						We are very close to our pitch dayBlogs\, Wetskills-United States 20233 years agoWetskills-USA 2023\, by Thaiane Fatima Maciel dos Santos – Our Saturday started quite differently in NYC. We are very close to our pitch day\, with deadlines for posters\, pitch and…		\n			\n	\n		\n	\n		\n	> MORE EVENT BLOGS \nEvent Cases\nCase 1: Artificial Glaciers for water conservation in mountains \nCase owner: Team Ladakh (India) \nThe Trans-Himalayan region is primarily agrarian and depends on glacial melt as the main source of water. Due to reduction in winter precipitation\, water flow is erratic during the spring sowing season\, impacting agriculture. Increase in average temperatures and precipitation during summers elevates the frequency of flash floods. Since the 12th century\, local communities have used the annual freeze-thaw cycle to conserve water. New challenges such as climate change\, water scarcity and population growth ask for a modernizing perspective of ancient practices. How can Mountainous areas and their communities ensure water availability during the year? Is the concept of artificial glaciers the key to a solution? \nCase 2: Plastic collection & recycling system \nCase owner: Team Oceanic (South Africa) \nPlastic pollution is a global problem. The sources are not always clear\, leaving land spills and beaches overflowing with plastic litter. This leads to environmental challenges\, especially for animals\, as well as health risks. Efforts intended to tackle the plastic pollution problem are either focused on reducing the plastics: using less plastic in products or using recycled plastic\, or efforts are focused on collecting plastics. If both these strategies are to be successful\, the local community needs to be involved. Within the vision of the Circular Economy\, can local communities combine these strategies and work towards a closed loop of plastic production\, consumption and recycling? \nCase 3: Rainwater harvesting systems for resilient cities \nCase owner: Team Pauwes (Ghana/Nigeria) \nGrowing water scarcity\, climate change\, rapid urbanization\, and increased demand for water are a combination of challenges best described as a wicked problem. For cities and communities to become resilient\, the long-term benefits of using alternative water sources\, such as rainwater\, are key. Rainwater harvesting techniques have been used for thousands of years. How can we ensure these approaches are future proof? Think of new technologies and modernization\, but also how to involve the local community\, raise awareness and education. How can we save and secure (rain)water in cities? \nCase 4: Nature based solutions in water treatment processes \nCase owner: Team Algaenius (The Netherlands)\n \nWater scarcity is a growing problem. Using and reusing our water in a smart and circular way\, becomes therefore essential. Current water treatment processes are advanced and able to produce sufficiently clean water\, so it returns to nature\, rivers and oceans in a safe way. However\, this is not completely circular. Thinking like nature\, in other words: nature-based innovations\, offer a different aspect of solutions. How can we create a water treatment process that is both future proof and nature inclusive? How can Nature Based Solutions contribute to water treatment processes? \nCase 5: Smart technologies in water analysis \nCase owner: Team Sigmuan (The Philippines)\n \nIndustrialization caused the contamination of surface and groundwater with harmful pollutants. These include petroleum hydrocarbons\, urban and agricultural runoffs\, and pharmaceuticals. The Quality monitoring and data-gathering is essential to improve water quality and signal areas that deserve more attention. However\, resources are limited in both technical\, financial and human capital terms – especially in communities that are less accessible (e.g. indigenous people\, mountainous areas\, SIDS). How can this limitation be overcome by using smart technologies\, to reduce the impact of water quality disasters and ensure clean\, affordable water for consumption and production. \nEvent Partners
URL:https://wetskills.com/event/wetskills-usa-2023-un/
LOCATION:New York\, USA\, New York\, United States
CATEGORIES:Past event
ATTACH;FMTTYPE=image/jpeg:https://wetskills.com/wp-content/uploads/2022/12/Wetskills-USA-UN-2023-1536x695-1.jpg
ORGANIZER;CN="Michiel de Koning":MAILTO:michiel.de.koning@wetskills.com
END:VEVENT
END:VCALENDAR