BEGIN:VCALENDAR
VERSION:2.0
PRODID:-//Wetskills Water Challenges - ECPv6.15.20//NONSGML v1.0//EN
CALSCALE:GREGORIAN
METHOD:PUBLISH
X-ORIGINAL-URL:https://wetskills.com
X-WR-CALDESC:Events for Wetskills Water Challenges
REFRESH-INTERVAL;VALUE=DURATION:PT1H
X-Robots-Tag:noindex
X-PUBLISHED-TTL:PT1H
BEGIN:VTIMEZONE
TZID:UTC
BEGIN:STANDARD
TZOFFSETFROM:+0000
TZOFFSETTO:+0000
TZNAME:UTC
DTSTART:20180101T000000
END:STANDARD
END:VTIMEZONE
BEGIN:VEVENT
DTSTART;VALUE=DATE:20190826
DTEND;VALUE=DATE:20190907
DTSTAMP:20260424T144206
CREATED:20190219T061015Z
LAST-MODIFIED:20190921T092035Z
UID:10000106-1566777600-1567814399@wetskills.com
SUMMARY:Wetskills-South Korea 2019
DESCRIPTION:About The Event\n[vc_single_image image=”50762″ img_size=”full” qode_css_animation=””][vc_empty_space image_repeat=”no-repeat”]The second edition of Wetskills South-Korea!\nBecause of the succes of a memorable first (Olympic) edition of a Wetskills Water Challenge in South-Korea in February last year (read here)\, we were thrilled to organize the second edition of Wetskills South-Korea this year! \nThe programme started on 26 August 2019 in Seoul\, and the great finals with pitches of all teams were held on 6 September\, during the Korean International Water Week 2019 (KIWW) in Daegu. \nThe two week programme is a life changing experience\, including high level network events\, a visit to the world’s largest tidal power plant\, and brainstorm sessions with South Korean water-experts. Watch the video to get an impression of this great event. \n[vc_empty_space image_repeat=”no-repeat”][no_blockquote text=”Share the Passion. Stay Connected. 🙂” title_tag=”h2″ show_border=”no” show_quote_icon=”yes” text_color=”#ffffff” background_color=”#43dbbd” width=”95″ line_height=”90″ quote_icon_color=”#0076b2″][vc_empty_space image_repeat=”no-repeat”]Wetskills-South Korea 2019!\n[vc_single_image image=”50762″ img_size=”full” qode_css_animation=””][vc_empty_space image_repeat=”no-repeat”][vc_empty_space image_repeat=”no-repeat”]Practical Information\n[vc_single_image image=”50762″ img_size=”full” qode_css_animation=””][vc_empty_space image_repeat=”no-repeat”]Programme Wetskills South-Korea 2019 \nTerms & Conditions Wetskills South-Korea 2019 \nPrevious event: Overview of study-cases of Wetskills South-Korea 2018 \n[vc_empty_space image_repeat=”no-repeat”][no_button icon_pack=”font_awesome” fa_icon=”fa-facebook” icon_position=”right” target=”_self” font_weight=”” text=”Attend on Facebook” link=”https://www.facebook.com/events/2406114606274571/” icon_color=”#ffffff”][vc_empty_space image_repeat=”no-repeat”]General Information\n[vc_single_image image=”50762″ img_size=”full” qode_css_animation=””][vc_empty_space image_repeat=”no-repeat”]Wetskills leaflet & track record \n[vc_empty_space image_repeat=”no-repeat”]Event Pictures on South Korea 2019\n[vc_single_image image=”50762″ img_size=”full” qode_css_animation=””][vc_empty_space image_repeat=”no-repeat”][vc_gallery type=”image_grid” images=”56203\,56204\,56205\,56214″ img_size=”large” column_number=”4″ grayscale=”no” hover_icon=”none” images_space=”gallery_with_space”][vc_empty_space height=”16px” image_repeat=”no-repeat”][vc_gallery type=”image_grid” images=”56210\,56209\,56215\,56212″ img_size=”large” column_number=”4″ grayscale=”no” hover_icon=”none” images_space=”gallery_with_space”]Wetskills formula\n[vc_single_image image=”50762″ img_size=”full” qode_css_animation=””]20 Participants were joining Wetskills South-Korea 2019! They got a unique learning experience\, tackling real-world water challenges with their own team\, and also:\n♦ Increase their skills in: international cooperation; problem solving\, cross-cultural and interdisciplinary teamwork\, networking and presenting (pitch & poster);\n♦ Get the opportunity to connect with other international water students/young professionals;\n♦ Visit Seoul\, Daegu and surrounding: water-related\, natural and cultural sites and meet water professionals;\n♦ Learn\, network and experience more about the international and regional water challenges\, the main stakeholders and organisations\, contemporary issues and current business opportunities;\n♦ Receive a certificate of participation upon completion of the program. \nContact the Wetskills-South Korea 2019 team: Floor van der Heijden\, floor.van.der.heijden@wetskills.com; Johan Oost\, johan.oost@wetskills.com; and Korean host Jeryang Park (Hongik University)\, jeryang.park@wetskills.com. \nEvent Blogs on South Korea 2018 & 2019\n[vc_single_image image=”50762″ img_size=”full” qode_css_animation=””][vc_empty_space image_repeat=”no-repeat”][no_blog_list type=”boxes” image_size=”landscape” show_thumbnail=”yes” number_of_columns=”4″ overlay_icon=”1″ order_by=”date” order=”DESC” title_tag=”h5″ display_excerpt=”1″ info_position=”top” post_info_text_transform=”none” post_info_font_weight=”700″ post_info_font_style=”normal” display_category=”0″ display_date=”1″ date_place=”over_title” display_author=”0″ display_comments=”0″ display_button=”1″ icon_pack=”font_elegant” fe_icon=”arrow_right” button_icon_position=”right” vertical_align_text=”middle” date_position=”in_icon” border_around_item=”no” separator=”yes” display_circle_button=”1″ enable_circle_button_shaddow=”1″ number_of_posts=”20″ overlay_color=”rgba(0\,221\,207\,0.59)” text_length=”133″ post_info_color=”#43dbbd” post_info_font_family=”Montserrat” post_info_letter_spacing=”-0.5″ date_size=”21″ button_text=”READ MORE” box_info_padding=”40px 5px 5px 5px” post_info_font_size=”20″ title_size=”28″ title_color=”#0076b2″ button_color=”#ffffff” button_hover_color=”#ffffff” button_background_color=”#43dbbd” button_hover_background_color=”#0076b2″ button_border_color=”#43dbbd” button_hover_border_color=”#0076b2″ category=”wetskills-south-korea-2018\, wetskills-south-korea”]Event Cases\n[vc_single_image image=”50762″ img_size=”full” qode_css_animation=””][vc_empty_space image_repeat=”no-repeat”]Case 1: Water supply for Mekong river delta in Vietnam\nCase owner: Korea Institute of Science and Technology (KIST)\n \nRecently\, a research on Mekong river in Vietnam suggested to use VKIST to solve water supply problems in the river delta. Mekong delta has salty groundwater due to saline water intrusion\, while rainwater is only available in the rainy season. KIST researchers try to find solutions for this water supply problem. How can water be provided to citizens in Mekong delta? \nFinal Poster \n\nTeam 1: Innovation on Rainwater harvesting techniques\n\n[vc_empty_space image_repeat=”no-repeat”][vc_single_image image=”56246″ img_size=”large” qode_css_animation=””]Case 2: Culture: Catalyst of water transitions\nCase owner: Province of Fryslan \nIn the coming decades\, we face major water challenges in the urban environment (both quality and quantity management). In the City of Leeuwarden in The Netherlands\, important steps have been taken with regard to water quality over the past 20 years. Climate adaptation is a major new challenge. Interventions will be necessary\, and are going to affect people’s lifes in the city. Important is the support and acceptance of the citizens. How can ‘culture’ increase the acceptance of citizens\, so they increasingly support the necessary climate change interventions? After all\, Result = Quality x Acceptance. \nFinal Poster – Winning team!\n \n\nTeam 2: Creating cultural solutions to raise water awareness\n\n[vc_empty_space image_repeat=”no-repeat”][vc_single_image image=”56248″ img_size=”large” qode_css_animation=””]Case 3: Coastal villages adaptive to sea level rise\nCase owner: Water Authority Noorderkwartier \nOne of the tasks of Water Authority HHNK is to manage and maintain the primary flood defense systems. Along their coastline\, where part of the dunes are the primary flood defense system\, erosion is taking place. To stabilize erosion\, the Dutch national government has set up a nourishment scheme to keep up with sea level rise. When sea level rising persists\, this scheme might not be enough for the protection of the villages situated in the dunes. The Wetskills team is challenged to come up with different/new adaptation options for an imaginary village along the HHNK coastline. \nFinal Poster \n\nTeam 3: Solutions for gradual and safe adaptation to sea level rise\n\n[vc_empty_space image_repeat=”no-repeat”][vc_single_image image=”56249″ img_size=”large” qode_css_animation=””][vc_empty_space image_repeat=”no-repeat”]Case 4: Sustainable Future: Water & Energy\nCase owner: Waternet Water Authority Amsterdam \nFor 2040\, Amsterdam wants all energy used in the city to come from renewable resources. If the city wants to have a 100% sustainable energy supply\, they have to find new sustainable energy sources in the near future. Waternet\, the city’s Water Authority\, is looking for ways in which water can contribute to this energy transition. During the previous Wetskills-South Korea edition in 2018\, the assigned (winning) team came up with the ‘Water Wide Web’: an energy network that can store energy on different levels close to households. The challenge for the new team now is to come up with a practical implementation strategy for this ‘web’. \nFinal Poster \n\nTeam 4: Water conservation and renewable energy\n\n[vc_empty_space image_repeat=”no-repeat”][vc_single_image image=”56244″ img_size=”large” qode_css_animation=””]Case 5: South Korea’s virtual water trade\nCase owner: Water Footprint Implementation \nSouth Korea is one of the largest net ‘virtual water import’ countries for agricultural products. At the same time\, more than 50% of South Korea’s exports are electronics\, machinery and other type of equipment. Other notable exports are refined petroleum and minerals. All with a large ‘domestic Water Footprint’. How is ‘virtual water trade’ affecting the sustainability and security of water resources in South Korea? And what is the relationship in virtual water trade with a trade partner like Mexico? \nFinal Poster \n\nTeam 5: Balancing the virtual water\n\n[vc_empty_space image_repeat=”no-repeat”][vc_single_image image=”56251″ img_size=”large” qode_css_animation=””]More Event Pictures on South Korea 2018 & 2019\n[vc_single_image image=”50762″ img_size=”full” qode_css_animation=””][vc_empty_space image_repeat=”no-repeat”][vc_gallery type=”image_grid” images=”56055\,56056\,56057\,56058″ img_size=”large” column_number=”4″ grayscale=”no” hover_icon=”none” images_space=”gallery_with_space”][vc_empty_space height=”16px” image_repeat=”no-repeat”][vc_gallery type=”image_grid” images=”56059\,56060\,56061\,56062″ img_size=”large” column_number=”4″ grayscale=”no” hover_icon=”none” images_space=”gallery_with_space”][vc_empty_space height=”16px” image_repeat=”no-repeat”][vc_gallery type=”image_grid” images=”55942\,55943\,55944\,55945″ img_size=”large” column_number=”4″ grayscale=”no” hover_icon=”none” images_space=”gallery_with_space”][vc_empty_space height=”16px” image_repeat=”no-repeat”][vc_gallery type=”image_grid” images=”55949\,55948\,55947\,55946″ img_size=”large” column_number=”4″ grayscale=”no” hover_icon=”none” images_space=”gallery_with_space”][vc_empty_space height=”16px” image_repeat=”no-repeat”][vc_gallery type=”image_grid” images=”53727\,53669\,53670\,53708″ img_size=”large” column_number=”4″ grayscale=”no” hover_icon=”none” images_space=”gallery_with_space”][vc_empty_space height=”16px” image_repeat=”no-repeat”][vc_gallery type=”image_grid” images=”53800\,53798\,53801\,53799″ img_size=”large” column_number=”4″ grayscale=”no” hover_icon=”none” images_space=”gallery_with_space”]The programme of 2018\n[vc_single_image image=”50762″ img_size=”full” qode_css_animation=””][vc_empty_space image_repeat=”no-repeat”][vc_empty_space image_repeat=”no-repeat”]The Finals & Awarding in 2018\n[vc_single_image image=”50762″ img_size=”full” qode_css_animation=””][vc_empty_space image_repeat=”no-repeat”][vc_empty_space image_repeat=”no-repeat”]Event Partners\n[vc_single_image image=”50762″ img_size=”full” qode_css_animation=””][vc_empty_space image_repeat=”no-repeat”][vc_single_image image=”53765″ img_size=”220×125″ style=”vc_box_rounded” qode_css_animation=””][vc_single_image image=”53274″ img_size=”220×125″ style=”vc_box_rounded” qode_css_animation=””][vc_single_image image=”56307″ img_size=”220×125″ style=”vc_box_rounded” qode_css_animation=””][vc_single_image image=”55013″ img_size=”220×125″ style=”vc_box_rounded” qode_css_animation=””][vc_empty_space image_repeat=”no-repeat”][vc_single_image image=”52334″ img_size=”220×125″ style=”vc_box_rounded” qode_css_animation=””][vc_single_image image=”53275″ img_size=”220×125″ style=”vc_box_rounded” qode_css_animation=””][vc_single_image image=”55019″ img_size=”220×125″ style=”vc_box_rounded” qode_css_animation=””][vc_single_image image=”55020″ img_size=”220×125″ style=”vc_box_rounded” qode_css_animation=””][vc_empty_space image_repeat=”no-repeat”][vc_single_image image=”55012″ img_size=”220×125″ style=”vc_box_rounded” qode_css_animation=””][vc_single_image image=”53766″ img_size=”220×125″ style=”vc_box_rounded” qode_css_animation=””][vc_single_image image=”53767″ img_size=”220×125″ style=”vc_box_rounded” qode_css_animation=””][vc_single_image image=”53101″ img_size=”220×125″ style=”vc_box_rounded” qode_css_animation=””][vc_empty_space image_repeat=”no-repeat”][vc_single_image image=”52373″ img_size=”220×125″ style=”vc_box_rounded” qode_css_animation=””][vc_single_image image=”54106″ img_size=”220×125″ style=”vc_box_rounded” qode_css_animation=””][vc_single_image image=”53546″ img_size=”220×125″ style=”vc_box_rounded” qode_css_animation=””][vc_single_image image=”53764″ img_size=”220×125″ style=”vc_box_rounded” qode_css_animation=””]
URL:https://wetskills.com/event/wetskills-south-korea-2019/
LOCATION:Korea Institute of Science and Technology\, 5. Hwarang-ro 14-gil\, Seongbuk-gu\, Seoul\, Korea\, Republic of
CATEGORIES:Past event
ATTACH;FMTTYPE=image/png:https://wetskills.com/wp-content/uploads/2019/02/Wetskills-South-Korea-2019-e1649406230913.png
ORGANIZER;CN="Floor van der Heijden":MAILTO:floor.van.der.heijden@wetskills.com
END:VEVENT
END:VCALENDAR