BEGIN:VCALENDAR
VERSION:2.0
PRODID:-//Wetskills Water Challenges - ECPv6.15.20//NONSGML v1.0//EN
CALSCALE:GREGORIAN
METHOD:PUBLISH
X-WR-CALNAME:Wetskills Water Challenges
X-ORIGINAL-URL:https://wetskills.com
X-WR-CALDESC:Events for Wetskills Water Challenges
REFRESH-INTERVAL;VALUE=DURATION:PT1H
X-Robots-Tag:noindex
X-PUBLISHED-TTL:PT1H
BEGIN:VTIMEZONE
TZID:UTC
BEGIN:STANDARD
TZOFFSETFROM:+0000
TZOFFSETTO:+0000
TZNAME:UTC
DTSTART:20140101T000000
END:STANDARD
END:VTIMEZONE
BEGIN:VEVENT
DTSTART;VALUE=DATE:20170330
DTEND;VALUE=DATE:20170413
DTSTAMP:20260419T011224
CREATED:20161018T171408Z
LAST-MODIFIED:20180405T105052Z
UID:10000088-1490832000-1492041599@wetskills.com
SUMMARY:Wetskills United Kingdom 2017
DESCRIPTION:About The Event\n[vc_single_image image=”50762″ img_size=”full” qode_css_animation=””][vc_empty_space image_repeat=”no-repeat”]The Wetskills organization invites Bachelor\, Master\, PhD students and recent graduates to apply for the Wetskills Water Challenge program to be held in Bath\, Somerset\, UK. The first Wetskills edition in the United Kingdom will be hosted by the Water Innovation Research Centre of the University of Bath (WIRC@Bath).  \nApply for this unique opportunity to participate in Wetskills Water Challenge! Final Announcement for Participants Wetskills-UK 2017 \nWetskills is integrated in the IWA YWP-UK programme with about 120-150 Young Professionals organized by our local host WIRC@Bath (see more information: Leaflet with more information and Preliminary programme). Wetskills participants will join this programme and this is included in the Wetskills fee. \nWe are looking for students and Young Professionals from universities and organisations from Europe and abroad with a passion for water: Apply for Wetskills-United Kingdom 2017 (period: 30 March – 12 April 2017). \nDeadline: Some positions left!\nYou can still register (first come\, first served)\nThe normal rate is GBP 440. This participation fee includes accommodation in Bath\, teambuilding weekend activities\, some lunches & dinners\, field trip\, workshop\, YWP-UK conference entrance fee and working locations. Participants are responsible for their own travel expenses (plane tickets\, local travel\, etcetera)\, meals during working days and other personal costs. some meals\, programme\, supervision\, field trips. \nFor participants who do not require accommodation\, the rate is GBP 240\,-. \nDuring past editions participants often successfully arranged financial compensation for their Wetskills participation from their university or employer. We therefore strongly encourage applicants to inquire about funding opportunities to compensate the costs (university mobility funds\, travel allowance etc.). \nFor more information\, contact Inge Muhlig (inge.muhlig@wetskills.com) or local host Chrysoula Papacharalampou (chrysoula.papacharalampou@wetskills.com). \nFor other information about Wetskills: Johan Oost (johan.oost@wetskills.com) \n[vc_empty_space image_repeat=”no-repeat”]Registration deadline\nSome positions left; registration till 15 March; first come\, first served. \n[vc_empty_space height=”16px” image_repeat=”no-repeat”][no_button icon_pack=”font_awesome” fa_icon=”fa-pencil” icon_position=”right” target=”_self” font_weight=”” text=”Register” link=”/wetskills-united-kingdom-2017-registration/ ” icon_color=”#ffffff” background_color=”#43dbbd” hover_background_color=”#0076b2″ border_color=”#43dbbd” hover_border_color=”#0076b2″][vc_empty_space height=”16px” image_repeat=”no-repeat”][no_button icon_pack=”font_awesome” fa_icon=”fa-facebook” icon_position=”right” target=”_self” font_weight=”” text=”Attend on Facebook” link=”https://www.facebook.com/events/599391626932165/” icon_color=”#ffffff”][vc_empty_space image_repeat=”no-repeat”]Practical information\n[vc_empty_space height=”16px” image_repeat=”no-repeat”]Programme: Flyer programme Wetskills-United Kingdom 2017 \n  \nFlyer: Final Announcement for Participants Wetskills-UK 2017 \n  \nFor registration: see Terms & Conditions Wetskill-United Kingdom 2017 \n[vc_empty_space image_repeat=”no-repeat”]Event Cases\n[vc_single_image image=”50762″ img_size=”full” qode_css_animation=””][vc_empty_space image_repeat=”no-repeat”]The Wetskills organization of the edition is looking for Case Owners\, companies/organisations that formulate their case and support the Wetskills programme. See Leaflet Case Sponsors Wetskills-United Kingdom 2017. \nFor more information\, contact Johan Oost (johan.oost@wetskills.com) or for local companies/organisations in United Kingdom: Chrysoula Papacharalampou (chrysoula.papacharalampou@wetskills.com). \n[vc_empty_space image_repeat=”no-repeat”]Case 1: Temporary water (un)safety \nCase owner: Hoogheemraadschap Delfland \nDelfland examines its dikes to asses if they technically comply to the normative safety standards. Sometimes the assessment results are below the safety requirements and reinforcement is required. The time between the (below standard) results and the improvements can take years largely due to the variety of stakeholder interests. Delfland needs a strategy and location specific solutions for the below standard dikes in this period to ensure safety for the inhabitants in the low-lands. \nCase owner:  \ninformation will be provided in a later stage \nCase 2: Implementing City BluePrint of Bath \nCase owner: Water Innovation Research Centre of the University of Bath & WaterShare (KWR Watercycle Research Institute) \nThe City BluePrint is an objective tool to provide an overview of the water management of cities and the governance capacity to implement changes for improvement. The City BluePrint will be developed for Bath. The team is challenges to think in ways to do more with the outcomes of this City BluePrint of Bath. \nMore information will be provided in a later stage \n[vc_empty_space image_repeat=”no-repeat”]Case 3: Impactful cooperation between Young Water Professionals in Europe \nCase owner: European Water Traineeship \n“We cannot solve our problems with the same thinking we used when we created them” (Albert Einstein). Even as more or less developed region in the World\, Europe faces many water challenges: Droughts\, Flood events\, Climate changes\, Pollution. As Albert Einstein mentioned: we need creative concepts to solve these challenges. Young Water Professionals (YWP) in Europe are ready to take these water challenges\, but what is a European YWP? How can YWPs overcome the challenges of cross-boundary corporation in Europe and work together in a more systematic way? \nCase 4: Citizens\, businesses and government in action for a waterproof Westland \nCase owner: Westland Municipality \nWestland is characterized by a patchwork of interlaced horticultural and residential functions. During intensive rainfall\, the water system cannot drain the water quickly enough\, resulting in increased water levels and flood risk. Till now the policy is to use the available storage capacity of the water system. However\, researches have shown that the storage capacity in the area has reached its limits. That is why we search for additional measures to retain water instead of draining the water: In cooperation with all stakeholders! \n[vc_gallery type=”image_grid” images=”52328\,52329\,52330\,52331\,52332″ column_number=”5″ grayscale=”no” hover_icon=”none” images_space=”gallery_with_space”]Event Partners\n[vc_single_image image=”50762″ img_size=”full” qode_css_animation=””][vc_empty_space image_repeat=”no-repeat”][vc_single_image image=”52372″ img_size=”220×125″ style=”vc_box_rounded” qode_css_animation=””][vc_single_image image=”52371″ img_size=”220×125″ style=”vc_box_rounded” qode_css_animation=””][vc_single_image image=”52148″ img_size=”220×125″ style=”vc_box_rounded” qode_css_animation=””][vc_single_image image=”52771″ img_size=”220×125″ style=”vc_box_rounded” qode_css_animation=””][vc_empty_space image_repeat=”no-repeat”][vc_single_image image=”52254″ img_size=”220×125″ style=”vc_box_rounded” qode_css_animation=””][vc_single_image image=”52781″ img_size=”220×125″ style=”vc_box_rounded” qode_css_animation=””][vc_single_image image=”52318″ img_size=”220×125″ style=”vc_box_rounded” qode_css_animation=””][vc_single_image image=”52155″ img_size=”220×125″ style=”vc_box_rounded” qode_css_animation=””][vc_empty_space image_repeat=”no-repeat”][vc_single_image image=”52793″ img_size=”220×125″ style=”vc_box_rounded” qode_css_animation=””][vc_single_image image=”52243″ img_size=”220×125″ style=”vc_box_rounded” qode_css_animation=””][vc_single_image image=”52155″ img_size=”220×125″ style=”vc_box_rounded” qode_css_animation=””][vc_single_image image=”52155″ img_size=”220×125″ style=”vc_box_rounded” qode_css_animation=””]Join this Wetskills event!\n[vc_empty_space height=”16px” image_repeat=”no-repeat”][no_button icon_pack=”” target=”_self” font_weight=”” text=”Register” link=”/wetskills-united-kingdom-2017-registration/” hover_border_color=”#ffffff” border_width=”2″ border_color=”#ffffff” margin=”0% 0% 0% 40%”]
URL:https://wetskills.com/event/wetskills-united-kingdom-2017/
LOCATION:Water Innovation and Research Centre of University of Bath\, University of Bath\, Claverton Down\, Bath\, BA2 7AY\, United Kingdom
CATEGORIES:Upcoming event
ATTACH;FMTTYPE=image/jpeg:https://wetskills.com/wp-content/uploads/2017/04/05-04-20172.jpg
ORGANIZER;CN="Inge Muhlig":MAILTO:inge.muhlig@wetskills.com
END:VEVENT
BEGIN:VEVENT
DTSTART;VALUE=DATE:20151128
DTEND;VALUE=DATE:20151212
DTSTAMP:20260419T011224
CREATED:20160619T021900Z
LAST-MODIFIED:20160619T025754Z
UID:10000081-1448668800-1449878399@wetskills.com
SUMMARY:Wetskills India 2015
DESCRIPTION:About The Event\n[vc_single_image image=”50762″ img_size=”full” qode_css_animation=””][vc_empty_space image_repeat=”no-repeat”]\n\n\n\nAhmedabad\, India – After 16 successful editions in five years\, the Wetskills Water Challenge was organized in India for the first time. This Wetskills program started on 28 November and ended on 11 December. 24 students and young professionals in the Dutch and Indian water industry competed to develop an innovative concept for five case studies from various partners in India. \nCase topics \nDuring the Wetskills program\, which takes place at the Centre for Environmental Education in Ahmedabad and partly PP Savani University in Surat\, students\, water experts and companies will compare views on global water innovations\, shared best practices\, and find new solutions on several topics\, including: \n\n  Public awareness and participation in Halved\n  Avoidance of mixing municipal sewer and Industrial wastewater in Surat\n  Resource recovery at the Sewer Treatment Plant in Ahmedabad\n  Industrial wastewater treatment at Vatva in Ahmedabad\nRestoring old water infrastructure in Ahmedabad\n\n\n\n\n\n[vc_empty_space height=”16px” image_repeat=”no-repeat”][no_blockquote text=”‘The moment after we finished our work was full of joy. Every one of us clapped with each other forming circle. It is going to be unforgettable time in chapter of my life.’” title_tag=”h3″ show_border=”no” show_quote_icon=”yes” text_color=”#ffffff” background_color=”#43dbbd” width=”95″ line_height=”90″ quote_icon_color=”#0076b2″][vc_empty_space image_repeat=”no-repeat”]Practical Information\n[vc_single_image image=”50762″ img_size=”full” qode_css_animation=””][vc_empty_space image_repeat=”no-repeat”]Programme \n  \nHost: Centre for Environment Education \n  \nPartners: RVO – Duurzaam Door\, Centre for Environment Education\, Wetskills Foundation\, Netherlands Business Support Office – Ahmedabad\, Pollution Control Board Gujarat \n[vc_empty_space image_repeat=”no-repeat”]– \n  \nEvent: Envirotech Asia 2015 (Ghandinagar) and workshop at CEE \n  \nLocations: Ahmedabad\, Ghandinagar\, Surat\, Halvad and Udaipur \n[vc_empty_space image_repeat=”no-repeat”]Facts: \nParticipants: 24 \nCases: 5 \nCountries: 2 (India and The Netherlands) \n[vc_empty_space image_repeat=”no-repeat”][vc_gallery type=”image_grid” images=”51887\,51889″ column_number=”5″ grayscale=”no” hover_icon=”none” images_space=”gallery_with_space”]Event Posters\n[vc_single_image image=”50762″ img_size=”full” qode_css_animation=””][vc_empty_space image_repeat=”no-repeat”][vc_gallery type=”image_grid” images=”51915\,51916\,51917\,51918\,51919″ img_size=”” column_number=”4″ grayscale=”no” hover_icon=”none” images_space=”gallery_with_space”]Event Media\n[vc_single_image image=”51255″ img_size=”full” qode_css_animation=””][vc_empty_space image_repeat=”no-repeat”][no_portfolio_list type=”masonry_with_space” padding_between=”15″ hover_type_standard=”circle_hover” box_background_color=”#ffffff” box_border=”no” info_box_padding=”5% 5% 5% 3%” columns=”4″ portfolio_loading_type_masonry=”portfolio_one_by_one” filter=”no” show_icons=”yes” portfolio_link_pointer=”single” show_categories=”yes” category=”wetskills-south-africa-2016″ show_load_more_icon=”no”][vc_empty_space image_repeat=”no-repeat”]Event Blogs\n[vc_single_image image=”50762″ img_size=”full” qode_css_animation=””][vc_empty_space image_repeat=”no-repeat”][no_blog_list type=”boxes” image_size=”landscape” show_thumbnail=”yes” number_of_columns=”3″ overlay_icon=”1″ order_by=”date” order=”DESC” title_tag=”h5″ display_excerpt=”1″ info_position=”top” post_info_text_transform=”none” post_info_font_weight=”700″ post_info_font_style=”normal” display_category=”0″ display_date=”1″ date_place=”over_title” display_author=”0″ display_comments=”0″ display_button=”1″ icon_pack=”font_elegant” fe_icon=”arrow_right” button_icon_position=”right” vertical_align_text=”middle” date_position=”in_icon” border_around_item=”no” separator=”yes” display_circle_button=”1″ enable_circle_button_shaddow=”1″ number_of_posts=”3″ overlay_color=”rgba(0\,221\,207\,0.59)” text_length=”133″ post_info_color=”#43dbbd” post_info_font_family=”Montserrat” post_info_letter_spacing=”-0.5″ date_size=”21″ button_text=”READ MORE” box_info_padding=”40px 5px 5px 5px” post_info_font_size=”20″ title_size=”28″ title_color=”#0076b2″ button_color=”#ffffff” button_hover_color=”#ffffff” button_background_color=”#43dbbd” button_hover_background_color=”#0076b2″ button_border_color=”#43dbbd” button_hover_border_color=”#0076b2″ category=”wetskills-event-south-africa-2016″]Event Partners\n[vc_single_image image=”50762″ img_size=”full” qode_css_animation=””][vc_empty_space height=”64px” image_repeat=”no-repeat”][vc_single_image image=”51765″ img_size=”220×125″ qode_css_animation=””][vc_single_image image=”51923″ img_size=”220×125″ qode_css_animation=””][vc_single_image image=”51924″ img_size=”220×125″ qode_css_animation=””][vc_single_image image=”51807″ img_size=”220×125″ qode_css_animation=””][vc_empty_space height=”64px” image_repeat=”no-repeat”]
URL:https://wetskills.com/event/wetskills-india-2015/
LOCATION:Water Innovation and Research Centre of University of Bath\, University of Bath\, Claverton Down\, Bath\, BA2 7AY\, United Kingdom
CATEGORIES:Past event
ATTACH;FMTTYPE=image/jpeg:https://wetskills.com/wp-content/uploads/2016/05/Group-picture-Wetskills-India-2015_kl.jpg
ORGANIZER;CN="Johan Oost":MAILTO:johan.oost@wetskills.com
END:VEVENT
END:VCALENDAR