BEGIN:VCALENDAR
VERSION:2.0
PRODID:-//Wetskills Water Challenges - ECPv6.15.20//NONSGML v1.0//EN
CALSCALE:GREGORIAN
METHOD:PUBLISH
X-WR-CALNAME:Wetskills Water Challenges
X-ORIGINAL-URL:https://wetskills.com
X-WR-CALDESC:Events for Wetskills Water Challenges
REFRESH-INTERVAL;VALUE=DURATION:PT1H
X-Robots-Tag:noindex
X-PUBLISHED-TTL:PT1H
BEGIN:VTIMEZONE
TZID:UTC
BEGIN:STANDARD
TZOFFSETFROM:+0000
TZOFFSETTO:+0000
TZNAME:UTC
DTSTART:20220101T000000
END:STANDARD
END:VTIMEZONE
BEGIN:VEVENT
DTSTART;VALUE=DATE:20230812
DTEND;VALUE=DATE:20230824
DTSTAMP:20260417T092927
CREATED:20230610T072604Z
LAST-MODIFIED:20251212T205501Z
UID:10000137-1691798400-1692835199@wetskills.com
SUMMARY:Wetskills-Jordan 2023
DESCRIPTION:About The Event\n[vc_single_image image=”50762″ img_size=”full” qode_css_animation=””][vc_empty_space image_repeat=”no-repeat”]Co-creating Water solutions in MENA region: follow us in Wetskills Jordan\nWetskills was organizing this great event for students or young professionals from Jordan\, MENA region\, or beyond\, who want to make a difference in the water sector. Participants shared their enthousiasm\, and experienced working in an international team on challenging water & sustainability issues\, and solve water cases with out-of-the-box solutions. All teams made a poster and pitch\, to present their ideas for an international jury panel and audience. Follow us in this event\, the first Wetskills edition in Jordan! \nThe first Wetskills in Jordan! with a great welcoming dinner and the group picture after the Finals ceremony. \n[vc_empty_space height=”16px” image_repeat=”no-repeat”][vc_empty_space height=”16px” image_repeat=”no-repeat”][vc_empty_space height=”64px” image_repeat=”no-repeat”]Watch the video: Wetskills-Jordan 2023!\n[vc_empty_space height=”16px” image_repeat=”no-repeat”]Event info\n[vc_single_image image=”50762″ img_size=”full” qode_css_animation=””]Programme Wetskills-Jordan 2023 (draft) \nAnnouncement for Participants Wetskills-Jordan 2023 \nTerms & Conditions Wetskills-Jordan 2023 \nFollow Wetskills\nFacebookXInstagramLinkedInYouTube\nWetskills to Palestine in 2022 (movie) \nFind an impression of another Wetskills event in MENA region and watch the movie from Palestine 2022. \n[vc_empty_space height=”16px” image_repeat=”no-repeat”]Joining this Wetskills Event – What do you get?\nA unique learning experience where you will tackle real-life water challenges with your own team! \n\nYou will increase your skills in: international cooperation; problem solving\, cross-cultural and interdisciplinary teamwork\, networking and presenting (pitch & poster);\nYou will get the opportunity to connect with other international water students/young professionals;\nYou will exclusively visit the Wetskills finals and awarding a inspiring workshop with the Arab Youth Green Voices programme;\nYou will visit Amman and surroundings: water-related\, natural and cultural sites\, and meetings with water experts;\nYou will learn\, network and experience more about international and regional water challenges\, the main stakeholders and organizations\, contemporary issues and current business opportunities;\nYou will receive a certificate of participation upon completion of the program.\n\nMore information\nParticipants from MENA region: contact Loay Alatrash\, loay.alatrash@wetskills.com ; participants from other countries: contact Johan Oost\, johan.oost@wetskills.com \n[vc_empty_space image_repeat=”no-repeat”]Tuesday\, 22 August: Finals & Awarding Ceremony!\nAll teams presented their ideas for the cases with a poster & a pitch. \n[vc_empty_space height=”16px” image_repeat=”no-repeat”]Event Blogs\n[vc_single_image image=”50762″ img_size=”full” qode_css_animation=””][vc_empty_space height=”16px” image_repeat=”no-repeat”]	\n		\n						A rollercoaster ride of experiencesBlogs\, Wetskills Jordan 20233 years agoJordan – 20 August 2023 – blog by Albatool – Who would have thought that a trip to Jordan for a WetSkills competition would turn into a whirlwind of laughter\,…		\n			\n	\n		\n						University of Jordan NostalgiaBlogs\, Wetskills Jordan 20233 years agoJordan – 19 August 2023 – blog by Lamis Qdemat – Amidst the chaos of battling the persistent virus that decided to tag along on our WetSkills training in Jordan\,…		\n			\n	\n		\n						Advice by engineers from Rawabi FarahBlogs\, Wetskills Jordan 20233 years agoJordan – 19 August 2023 – blog by Baraa – I woke up at8:00 AM and was so excited to train and get a new experience. Then I’m arrived in…		\n			\n	\n		\n						Wadi Rum desert & Petra cityBlogs\, Wetskills Jordan 20233 years agoJordan – 18 August 2023 – blog by Shilan Shaban – A day to remember\, I woke up crazy early\, like 5 AM\, in the Wadi Rum desert. I was…		\n			\n	\n		\n						Work on our case & night dancing in the desertBlogs\, Wetskills Jordan 20233 years agoJordan\, 17 August 2023 – blog by Timo Vleerbos – Today started a bit slow\, because a lot of people were still sick. We bought some medicines before we went…		\n			\n	\n		\n						Day of shared insights and teamworkBlogs\, Wetskills Jordan 20233 years agoJordan\, 16 August 2023 – blog by Shahed Al-disi – A memorable day unfolded\, where the atmosphere buzzed with creativity and collaboration. The energy was noticeable\, as participants engaged in…		\n			\n	\n		\n	\n		\n	[vc_empty_space image_repeat=”no-repeat”]> MORE EVENT BLOGS\nEvent Cases\n[vc_single_image image=”50762″ img_size=”full” qode_css_animation=””][vc_empty_space height=”16px” image_repeat=”no-repeat”]Case 1: Sponge City Irbid\n[vc_empty_space height=”16px” image_repeat=”no-repeat”]Case owner: World Waternet\n \nJordan faces a severe water crisis due to limited rainfall; mean annual rainfall is only 107 mm of which 75% falls during winter. In Irbid\, in the North of Jordan\, World Waternet has a Water Operators Partnership with Yarmouk Water Company\, the drinking water and waste water company. For this case we want to find solutions on how rainwater can be harvested and used in a later stage. The short rainfall period causes overflows of the sewerage system and it is a struggle to produce enough drinking water. Irbid is warm\, water demand is high\, for both households as well as industries and agriculture. Making use of nature based solutions\, how can rainwater be harvested? Where can this water be stored? And how to reduce the need for drinking water\, and prepare for future changes like climate change and a growing population? \nCase 2: Water Quality Monitoring\n\n[vc_empty_space height=”16px” image_repeat=”no-repeat”]Case owner: World Waternet\n \nEnsuring safe drinking water is vital for public health\, yet maintaining water quality in distribution networks presents challenges. Scarce water amplifies contamination risks\, aggravated by inadequate sanitation. Collaborative efforts and innovative technologies are key. For this case\, the task is to design a cost-effective monitoring and communication plan\, adhering to WHO standards. Using two case study areas\, North Hebron and Salfit area in the West Bank\, the monitoring system should be adapted to regional circumstances and constraints\, like considering possible contamination by rooftop tanks\, supply interruptions\, contamination hotspots\, climate change\, and existing lab infrastructure. \n[vc_empty_space height=”16px” image_repeat=”no-repeat”]Poster & Pitch \n[vc_empty_space height=”16px” image_repeat=”no-repeat”][vc_empty_space image_repeat=”no-repeat”][vc_empty_space height=”16px” image_repeat=”no-repeat”]Poster & Pitch – winning team! \n[vc_empty_space height=”16px” image_repeat=”no-repeat”][vc_empty_space image_repeat=”no-repeat”]Case 3: Rainwater Harvesting for farmer communities\n\n[vc_empty_space height=”16px” image_repeat=”no-repeat”]Case owner: Acacia Water\n \nThis case is part of a project by Acacia Water\, to promote\, pilot and have discussions about rainwater harvesting and nature-based solutions in Jordan. The project is supported by the Dutch Embassy\, with an ambitious portfolio of work on the role of nature in helping to address societal challenges\, like water and soil conservation\, and climate change mitigation. The assignment for this case: How can the widespread adoption of rainwater harvesting and nature based solutions for farmer communities be realized\, through a comprehensive model that ensures sustainable integration of strategies\, taking into account all relevant factors\, such as water security\, employment prospects\, effective communication and community engagement? \nCase 4: Sustainable Wastewater Reuse\n\n[vc_empty_space height=”16px” image_repeat=”no-repeat”]Case owner: GIZ \nWastewater reuse is a sustainable approach to address water scarcity and environmental concerns. Treatment of wastewater and repurposing the effluent for various non-potable applications\, such as irrigation and industrial processes\, could be a way to reduce pollution and at the same time conserve freshwater resources. The project is working on promoting a more efficient and responsible water management system. The assignment for this case is: Assess the feasibility and potential benefits of implementing a wastewater reuse system in a specific region or industry. And also: how should social acceptance of using treated wastewater for landscape irrigation be defined? \nCase 5: Action-driven follow-up of great ideas\n[vc_empty_space height=”16px” image_repeat=”no-repeat”]Case owner: AYGV & Wetskills\n \n‘Stop Talking\, Start Doing and talks in Arabic’. That was the result of the Arab Youth Green Voices (AYGV) participation on COP27 In Sharm Al-Sheikh in 2022. AYGV and Wetskills are youth programs which have been uniting talent for more than a decade. A lot of co-creation (like Wetskills ideas) and community building have been realized. The challenge of this case: Empowering an Alumni Community for Action-driven follow-up of great ideas in Arab Countries. How can AYGV and Wetskills accelerate follow-up activities of fresh (WetsNext) ideas with the combined Water Talent Community? \n[vc_empty_space height=”16px” image_repeat=”no-repeat”]Poster & Pitch \n[vc_empty_space height=”16px” image_repeat=”no-repeat”][vc_empty_space height=”16px” image_repeat=”no-repeat”]Poster & Pitch\n \n[vc_empty_space height=”16px” image_repeat=”no-repeat”][vc_empty_space height=”16px” image_repeat=”no-repeat”]Poster & Pitch\n \n[vc_empty_space height=”16px” image_repeat=”no-repeat”]Event Partners\n[vc_single_image image=”50762″ img_size=”full” qode_css_animation=””][vc_empty_space image_repeat=”no-repeat”][vc_single_image image=”57038″ img_size=”220×125″ style=”vc_box_rounded” qode_css_animation=””][vc_single_image image=”61991″ img_size=”220×125″ style=”vc_box_rounded” qode_css_animation=””][vc_single_image image=”52334″ img_size=”220×125″ style=”vc_box_rounded” qode_css_animation=””][vc_single_image image=”57060″ img_size=”220×125″ style=”vc_box_rounded” qode_css_animation=””][vc_empty_space image_repeat=”no-repeat”][vc_single_image image=”61992″ img_size=”220×125″ style=”vc_box_rounded” qode_css_animation=””][vc_single_image image=”52373″ img_size=”220×125″ style=”vc_box_rounded” qode_css_animation=””][vc_single_image image=”62043″ img_size=”220×125″ style=”vc_box_rounded” css=”” qode_css_animation=””][vc_single_image image=”54106″ img_size=”220×125″ style=”vc_box_rounded” qode_css_animation=””]
URL:https://wetskills.com/event/wetskills-jordan-2023/
LOCATION:Amman\, Jordan\, Amman\, Jordan
CATEGORIES:Past event
ATTACH;FMTTYPE=image/jpeg:https://wetskills.com/wp-content/uploads/2023/06/Jordan-pic.jpg
ORGANIZER;CN="Loay Alatrash":MAILTO:loay.alatrash@wetskills.com
END:VEVENT
END:VCALENDAR