BEGIN:VCALENDAR
VERSION:2.0
PRODID:-//Wetskills Water Challenges - ECPv6.15.20//NONSGML v1.0//EN
CALSCALE:GREGORIAN
METHOD:PUBLISH
X-ORIGINAL-URL:https://wetskills.com
X-WR-CALDESC:Events for Wetskills Water Challenges
REFRESH-INTERVAL;VALUE=DURATION:PT1H
X-Robots-Tag:noindex
X-PUBLISHED-TTL:PT1H
BEGIN:VTIMEZONE
TZID:UTC
BEGIN:STANDARD
TZOFFSETFROM:+0000
TZOFFSETTO:+0000
TZNAME:UTC
DTSTART:20200101T000000
END:STANDARD
END:VTIMEZONE
BEGIN:VEVENT
DTSTART;VALUE=DATE:20210815
DTEND;VALUE=DATE:20210828
DTSTAMP:20260417T082913
CREATED:20200608T215733Z
LAST-MODIFIED:20210903T135802Z
UID:10000117-1628985600-1630108799@wetskills.com
SUMMARY:Wetskills-Denmark 2021
DESCRIPTION:About The Event\n[vc_single_image image=”50762″ img_size=”full” qode_css_animation=””][vc_empty_space image_repeat=”no-repeat”]Wetskills Event in Denmark!\nWetskills Foundation organized a Wetskills Water Challenge for the first time in Denmark. This (live!) event started on 15 August 2021 in and around the inspiring City of Copenhagen – surrounded by water and very active in Climate Adaptation. \nIn the Wetskills-Denmark group we had participants from 5 different nationalities! During the 2-weeks program they worked in international\, multidisciplinary teams on real-life water cases. The finals and awarding were an online webinar\, accessible for interested professionals from Europe and beyond. And the winning team was …  Team Rotterdam &  Copenhagen – Congratulations! \nThe 2020/2021 central theme of Wetskills Events\, celebrating 10 years of Wetskills: \n‘VALUING FUTURE WATER LEADERS SHAKING THE WATER-ENERGY-FOOD COCKTAIL WITH THEIR INCLUSIVE & CATALYTIC CAPACITY’. \n[vc_empty_space image_repeat=”no-repeat”]Watch the Video of Wetskills-Denmark 2021\nPractical Information\n[vc_single_image image=”50762″ img_size=”full” qode_css_animation=””][vc_empty_space image_repeat=”no-repeat”]Programme Wetskills-Denmark 2021 \nAnnouncement for Participants Wetskills-Denmark 2021 \nTerms & Conditions Wetskills-Denmark 2021 \n[vc_empty_space height=”16px” image_repeat=”no-repeat”][no_button icon_pack=”font_awesome” fa_icon=”fa-facebook” icon_position=”right” target=”_blank” font_weight=”” text=”Attend on Facebook” link=”https://www.facebook.com/events/780400045965303/” icon_color=”#ffffff”][vc_empty_space height=”16px” image_repeat=”no-repeat”]Watch the video of Wetskills-The Netherlands 2019!\n[vc_empty_space image_repeat=”no-repeat”]Follow Wetskills\n[vc_single_image image=”50762″ img_size=”full” qode_css_animation=””][vc_empty_space image_repeat=”no-repeat”][no_icons icon_pack=”font_elegant” fa_icon=”fa-facebook” fa_size=”fa-lg” custom_size=”30″ type=”normal” rotated_shape=”no” icon_shadow=”no” inner_border=”no” back_to_top_icon=”” link=”https://www.facebook.com/Wetskills-496271977097972″ anchor_icon=”” target=”_blank” icon_color=”#0076b2″ hover_icon_color=”#43dbbd” margin=”0px 12px 0px 0px” fe_icon=”social_facebook”]     [no_icons icon_pack=”font_elegant” fa_icon=”fa-twitter” fa_size=”fa-lg” custom_size=”30″ type=”normal” rotated_shape=”no” icon_shadow=”no” inner_border=”no” back_to_top_icon=”” link=”http://twitter.com/wetskills” anchor_icon=”” target=”_blank” icon_color=”#0076b2″ hover_icon_color=”#43dbbd” margin=”0px 12px 0px 0px” fe_icon=”social_twitter”]     [no_icons icon_pack=”font_elegant” fa_icon=”fa-instagram” fa_size=”fa-lg” custom_size=”30″ type=”normal” rotated_shape=”no” icon_shadow=”no” inner_border=”no” back_to_top_icon=”” link=”https://www.instagram.com/wetskills/” anchor_icon=”” target=”_blank” icon_color=”#0076b2″ hover_icon_color=”#43dbbd” margin=”0px 12px 0px 0px” fe_icon=”social_instagram”]     [no_icons icon_pack=”font_elegant” fa_icon=”fa-twitter” fa_size=”fa-lg” custom_size=”30″ type=”normal” rotated_shape=”no” icon_shadow=”no” inner_border=”no” back_to_top_icon=”” link=”https://www.linkedin.com/groups/2949484″ anchor_icon=”” target=”_blank” icon_color=”#0076b2″ hover_icon_color=”#43dbbd” margin=”0px 12px 0px 0px” fe_icon=”social_linkedin”]     [no_icons icon_pack=”font_elegant” fa_icon=”fa-youtube-square” fe_icon=”social_youtube” fa_size=”fa-lg” custom_size=”30″ type=”normal” rotated_shape=”no” icon_shadow=”no” inner_border=”no” back_to_top_icon=”” link=”https://www.youtube.com/channel/UCJmPNM9roCkR1uvgJMHqpvA” anchor_icon=”” target=”_blank” icon_color=”#0076b2″ hover_icon_color=”#43dbbd” margin=”0px 12px 0px 0px”] \nEvent Blogs\n[vc_single_image image=”50762″ img_size=”full” qode_css_animation=””][vc_empty_space image_repeat=”no-repeat”][no_blog_list type=”boxes” image_size=”landscape” show_thumbnail=”yes” number_of_columns=”3″ overlay_icon=”1″ order_by=”date” order=”DESC” title_tag=”h5″ display_excerpt=”1″ info_position=”top” post_info_text_transform=”none” post_info_font_weight=”700″ post_info_font_style=”normal” display_category=”0″ display_date=”1″ date_place=”over_title” display_author=”0″ display_comments=”0″ display_button=”1″ icon_pack=”font_elegant” fe_icon=”arrow_right” button_icon_position=”right” vertical_align_text=”middle” date_position=”in_icon” border_around_item=”no” separator=”yes” display_circle_button=”1″ enable_circle_button_shaddow=”1″ number_of_posts=”6″ overlay_color=”rgba(0\,221\,207\,0.59)” text_length=”200″ post_info_color=”#43dbbd” post_info_font_family=”Montserrat” post_info_letter_spacing=”-0.5″ date_size=”21″ button_text=”READ MORE” box_info_padding=”40px 5px 5px 5px” post_info_font_size=”20″ title_size=”28″ title_color=”#0076b2″ button_color=”#ffffff” button_hover_color=”#ffffff” button_background_color=”#43dbbd” button_hover_background_color=”#0076b2″ button_border_color=”#43dbbd” button_hover_border_color=”#0076b2″ category=”Wetskills-Denmark”][vc_gallery type=”image_grid” images=”58683\,58680\,58659\,58678\,58676″ column_number=”5″ grayscale=”no” hover_icon=”none” images_space=”gallery_with_space”]Event Cases\n[vc_single_image image=”50762″ img_size=”full” qode_css_animation=””][vc_empty_space image_repeat=”no-repeat”]Case 1: Sensoring the Climate in your own backyard\nCase owner: City of Zwolle (The Netherlands) \nClimate is mostly considered on a more national and regional level rather than neighborhood levels. The City of Zwolle launched the SensHagen project where citizens voluntarily placed sensors to measure data as temperature\, precipitation\, and air quality. With this crowd sourcing project\, both city and citizen know which part of the neighborhood is coolest or has the best air quality\, which is great when you are doing your exercise round. But measuring data does not necessarily lead to more climate adaptive behavior. How do we take the next step from measuring to action? And what role do partners (governmental and non-governmental) play in this transition? \nCase 2: Protecting existing settlements at the Falsterbo Peninsula in Sweden\nCase owner: Statens Geotekniska Institut (Sweden)\, Dragør Municipality (Denmark) and Water Authority Hollands Noorderkwartier (The Netherlands) \nFlood safety\, spatial planning\, including stakeholder participation\, and nature ambitions can sometimes state challenging or even contradictory goals. At the Falsterbo Peninsula\, Sweden\, the built environment is prone to flooding and the direct surrounding area has high natural\, recreational and cultural values. The stakes are high\, the stakeholders are many and the available space without previous claims almost nonexistent. If you had full flexibility\, meaning no restrictions by any regulation\, what would your optimal adaptive design to protect existing settlements without causing unacceptable harm to other stakeholders be\, and how would you guide the process towards the implementation of this design? \nCase 3: Innovative stormwater treatment and retention solutions in cities\nCase owner: City of Copenhagen & City of Rotterdam \nCopenhagen and Rotterdam are seeking innovative ideas\, technologies\, and approaches for how stormwater can be successfully captured and treated to optimize benefits\, reduce risks to public health\, and promote co-benefits. By doing so\, stormwater can be caught during wet periods and re-used in times when it’s dry. Proposed solutions should consider the role water treatment or reuse can play in reducing flows to drainage systems and wastewater treatment facilities. It is important to consider the opportunities and challenges for implementation as well. How can both cities manage the contaminants found in stormwater that can pose issues to public health and the environment\, comply with current guidelines\, and overcome other barriers to achieve the desired benefits of proposed stormwater treatment and reuse practices? \n[vc_empty_space height=”16px” image_repeat=”no-repeat”]Pitch & Poster \n[vc_single_image image=”58691″ img_size=”large” qode_css_animation=””]Pitch & Poster \n[vc_single_image image=”58692″ img_size=”large” qode_css_animation=””]Pitch & Poster \n[vc_single_image image=”58693″ img_size=”large” qode_css_animation=””]Event Partners\n[vc_single_image image=”50762″ img_size=”full” qode_css_animation=””][vc_empty_space image_repeat=”no-repeat”][vc_single_image image=”57646″ img_size=”220×125″ style=”vc_box_rounded” qode_css_animation=””][vc_single_image image=”57671″ img_size=”220×125″ style=”vc_box_rounded” qode_css_animation=””][vc_single_image image=”57038″ img_size=”220×125″ style=”vc_box_rounded” qode_css_animation=””][vc_single_image image=”52334″ img_size=”220×125″ style=”vc_box_rounded” qode_css_animation=””][vc_empty_space image_repeat=”no-repeat”][vc_single_image image=”58280″ img_size=”220×125″ style=”vc_box_rounded” qode_css_animation=””][vc_single_image image=”58281″ img_size=”220×125″ style=”vc_box_rounded” qode_css_animation=””][vc_single_image image=”58514″ img_size=”220×125″ style=”vc_box_rounded” qode_css_animation=””][vc_single_image image=”55337″ img_size=”220×125″ style=”vc_box_rounded” qode_css_animation=””][vc_empty_space image_repeat=”no-repeat”][vc_single_image image=”57644″ img_size=”220×125″ style=”vc_box_rounded” qode_css_animation=””][vc_single_image image=”58515″ img_size=”220×125″ style=”vc_box_rounded” qode_css_animation=””][vc_single_image image=”53101″ img_size=”220×125″ style=”vc_box_rounded” qode_css_animation=””][vc_single_image image=”57060″ img_size=”220×125″ style=”vc_box_rounded” qode_css_animation=””][vc_empty_space image_repeat=”no-repeat”][vc_gallery type=”image_grid” images=”57564\,57562\,57561\,57563\,57565″ column_number=”5″ grayscale=”no” hover_icon=”none” images_space=”gallery_with_space”]
URL:https://wetskills.com/event/wetskills-denmark-2021/
LOCATION:Copenhagen\, Denmark
CATEGORIES:Past event
ATTACH;FMTTYPE=image/jpeg:https://wetskills.com/wp-content/uploads/2020/06/copenhagen-nyhavn-e1591652683849.jpg
END:VEVENT
END:VCALENDAR