BEGIN:VCALENDAR
VERSION:2.0
PRODID:-//Wetskills Water Challenges - ECPv6.15.20//NONSGML v1.0//EN
CALSCALE:GREGORIAN
METHOD:PUBLISH
X-WR-CALNAME:Wetskills Water Challenges
X-ORIGINAL-URL:https://wetskills.com
X-WR-CALDESC:Events for Wetskills Water Challenges
REFRESH-INTERVAL;VALUE=DURATION:PT1H
X-Robots-Tag:noindex
X-PUBLISHED-TTL:PT1H
BEGIN:VTIMEZONE
TZID:UTC
BEGIN:STANDARD
TZOFFSETFROM:+0000
TZOFFSETTO:+0000
TZNAME:UTC
DTSTART:20150101T000000
END:STANDARD
END:VTIMEZONE
BEGIN:VEVENT
DTSTART;VALUE=DATE:20161014
DTEND;VALUE=DATE:20161026
DTSTAMP:20260420T164845
CREATED:20160814T103325Z
LAST-MODIFIED:20220602T083903Z
UID:10000086-1476403200-1477439999@wetskills.com
SUMMARY:Wetskills-Iran 2016
DESCRIPTION:About The Event\n[vc_single_image image=”50762″ img_size=”full” qode_css_animation=””][vc_empty_space image_repeat=”no-repeat”]Tehran-Iran\, Minister of Environment and Infrastructure of Kingdom of The Netherlands\, Ms. Schultz van Haegen announced and awarded the winning team of Wetskills-Iran. The Wetskills jury found that returning a flamingo to Lake Urmia to raise awareness on all kinds of levels in society (from primary schools to farmers to municipalities) was the idea worth awarding. The awards were given at the trade dinner for the Dutch mission to Iran headed by Ms. Schultz van Haegen. \nFollowing two weeks of hard work\, cooperation and fun\, the fice Wetskills teams presented their pitches and posters of this Wetskills Water Challenge in Iran on Sunday 24th October. The ideas pitched were vastly ranging from technical solutions to give more time in adapting lifestyle for Rafsajan pistachio farmers to integrating sensor technology to create awareness by installing a large flamingo in Lake Urmia\, reacting to water level\, to entice inhabitants to a race to fill up the lake. A nice new introduction of rice farming in combination with dredging was given as solution for silting up of Anzali port and peach juice production as alternative livelihoods for the Hashgerd plain included a good sense of community work and regional economy development. Missing links were noticed in society and technology for the case of clean drinking water and by closing the gaps a solution was found. \nBetween 15 and 25 October\, the first Iranian Wetskills Challenge took place in Iran. During the event in Tehran\, 25 students and young professionals from Iran and The Netherlands worked together in teams to come up with out-of-the-box concepts for actual water related cases\, posed by Iranian and Dutch case owners. The event was aligned to the trade mission of Minister of Infrastructure & Environment of The Netherlands\, Ms. Schultz van Haegen to Iran. The Sharif University of Technology Shahid Beheshti University in Tehran are joinly hosting the event. \n  \nPress-release no1 Wetskills to Iran \nMedia Advisory-about Wetskills-Iran 2016 \n[vc_empty_space height=”16px” image_repeat=”no-repeat”][no_blockquote text=”‘Participating in a Wetskills Water Challenge was a great experience. Iran is so different than The Netherlands. I learned a lot.'” title_tag=”h5″ show_border=”no” show_quote_icon=”yes” text_color=”#ffffff” background_color=”#43dbbd” width=”95″ line_height=”40″ quote_icon_color=”#0076b2″][vc_empty_space image_repeat=”no-repeat”]Practical Information\n[vc_single_image image=”50762″ img_size=”full” qode_css_animation=””][vc_empty_space image_repeat=”no-repeat”]Programme Wetskills \n  \nLocal Hosts: Sharif University of Technology (Tehran) & Shahid Behesti University (Tehran) \n  \nPartners: Ministry of Infrastructure and Environment\, TopSector Water\, Nationale Water Traineeship\, Embassy of kingdom of The Netherlands in Iran\, Iranian Embassy in The Netherlands\, Netherlands Water Partnership\, Royal Netherlands Water Association\, H2Oost \n[vc_empty_space image_repeat=”no-repeat”]Event: Official trade mission of Minister of Infrastructure and Environment of The Netherlands\, Ms. Schultz van Haegen \n  \nVenue: Tehran \n  \nLocations: Tehran\, Ishfaram \n[vc_empty_space image_repeat=”no-repeat”]Facts: \nParticipants: 24 \nCases: 5 \nCountries: 2 (Iran & The Netherlands) \n[vc_empty_space image_repeat=”no-repeat”][vc_gallery type=”image_grid” images=”52360\,52358\,52354\,52357″ column_number=”4″ grayscale=”no” hover_icon=”none” images_space=”gallery_with_space”]Event Cases\n[vc_single_image image=”50762″ img_size=”full” qode_css_animation=””][vc_empty_space image_repeat=”no-repeat”]Case 1: Reuse of water by UV technology\n\nCase owner: BersonUV \nWater scarcity is a major growing challenge in Iran. Though technically and economically water re-use provides excellent opportunities\, the cultural and religious resistance against bringing back treated waste water in the drinking water cycle is considerable. However\, there is plenty of opportunity to re-use water outside applications that directly or indirectly involve human consumption (e.g. landscaping\, cooling\, industrial use). How can the amount of water increased that is re-used safely and disinfected? \nCase 2: Resilient water management with stakeholders in Rafsanjan\nCase owner: ITC-University of Twente \nRafsanjan\, the main producer of pistachio in Iran\, is a sample of human settlements coping with severe water scarcity and its associated socio-economic problems. Beside the engineering solutions we need to make the socio-ecological systems more resilient in water scarce situation. The assessment of different policy options in this hazardous situation is a new challenge. \nCase 3: Finding unconventional Water Sources\n\nCase owner: Lake Urmia Restoration Programme \nLake Uremia is a lake with salt water. The shrinking of the lake results in soil challenges for the agriculture. The Wetskills Team that will work on this project might find solutions related to cloud seeding\, preventing salt dispersion or changing the economic ratio and thus finding another way of life for the region. \n[vc_empty_space height=”16px” image_repeat=”no-repeat”]Poster with results \n[vc_single_image image=”52388″ img_size=”full” onclick=”img_link_large” img_link_target=”_blank” qode_css_animation=””]Poster with results \n[vc_single_image image=”52389″ img_size=”full” onclick=”img_link_large” img_link_target=”_blank” qode_css_animation=””]Poster with results \n[vc_single_image image=”52390″ img_size=”full” onclick=”img_link_large” img_link_target=”_blank” qode_css_animation=””][vc_empty_space image_repeat=”no-repeat”]Case 4: Improving the irrigation water-efficiency in Hashtgerd Plain\n\nCase owner: Dutch Water Authorities / De Dommel \nA substantial increase in the rate of industrialization\, agricultural activities and urbanization in Hashtgerd Plain\, results in a dramatic  increase of water consumption. Consequently\, appropriate water resources management is essential. \nThe proposed result-oriented methodology (SSBK)\, tries to avoid impulsive actions by identifying existing bottlenecks and postponing thinking in solutions. \nCase 5: Cleaning the sediments of Anzali Port\nCase owner: Van Oord \nAnzali Port is located in the north of Iran at the Caspian Sea. The port is situated at the famous Anzali lagoon. Due to the sediments and tons of household\, industrial and hospital waste entering the lagoon each year\, the lagoon has gone from a nine-metre depth in 1975 to just one metre. \nHow can the sediments from the lagoon to the Anzali port be reduced in the short and long term. \n[vc_empty_space height=”16px” image_repeat=”no-repeat”]Poster with results \n[vc_single_image image=”52391″ img_size=”full” onclick=”img_link_large” img_link_target=”_blank” qode_css_animation=””]Poster with results \n[vc_single_image image=”52392″ img_size=”full” onclick=”img_link_large” img_link_target=”_blank” qode_css_animation=””][vc_empty_space image_repeat=”no-repeat”][vc_gallery type=”image_grid” images=”52115\,52116\,52117\,52112\,52111″ column_number=”5″ grayscale=”no” hover_icon=”none” images_space=”gallery_with_space”]Event Partners\n[vc_single_image image=”50762″ img_size=”full” qode_css_animation=””][vc_empty_space image_repeat=”no-repeat”][vc_single_image image=”52140″ img_size=”220×125″ style=”vc_box_rounded” qode_css_animation=””][vc_single_image image=”52317″ img_size=”220×125″ style=”vc_box_rounded” qode_css_animation=””][vc_single_image image=”52141″ img_size=”220×125″ style=”vc_box_rounded” qode_css_animation=””][vc_single_image image=”52315″ img_size=”220×125″ style=”vc_box_rounded” qode_css_animation=””][vc_empty_space image_repeat=”no-repeat”][vc_single_image image=”52175″ img_size=”220×125″ style=”vc_box_rounded” qode_css_animation=””][vc_single_image image=”52240″ img_size=”220×125″ style=”vc_box_rounded” qode_css_animation=””][vc_single_image image=”52239″ img_size=”220×125″ style=”vc_box_rounded” qode_css_animation=””][vc_single_image image=”52245″ img_size=”220×125″ style=”vc_box_rounded” qode_css_animation=””][vc_empty_space image_repeat=”no-repeat”][vc_single_image image=”52318″ img_size=”220×125″ style=”vc_box_rounded” qode_css_animation=””][vc_single_image image=”52148″ img_size=”220×125″ style=”vc_box_rounded” qode_css_animation=””][vc_single_image image=”52246″ img_size=”220×125″ style=”vc_box_rounded” qode_css_animation=””][vc_single_image image=”52257″ img_size=”220×125″ style=”vc_box_rounded” qode_css_animation=””][vc_empty_space image_repeat=”no-repeat”][vc_single_image image=”52247″ img_size=”220×125″ style=”vc_box_rounded” qode_css_animation=””][vc_single_image image=”52146″ img_size=”220×125″ style=”vc_box_rounded” qode_css_animation=””][vc_single_image image=”52243″ img_size=”220×125″ style=”vc_box_rounded” qode_css_animation=””][vc_single_image image=”52155″ img_size=”220×125″ style=”vc_box_rounded” qode_css_animation=””]
URL:https://wetskills.com/event/wetskills-iran-2016/
LOCATION:Sharif University of Technology\, Tehran\, Iran (Islamic Republic Of)
CATEGORIES:Past event
ATTACH;FMTTYPE=image/jpeg:https://wetskills.com/wp-content/uploads/2016/08/Grouppicture.jpeg
ORGANIZER;CN="Marcel Rompelman":MAILTO:marcel.rompelman@wetskills.com
END:VEVENT
END:VCALENDAR