BEGIN:VCALENDAR
VERSION:2.0
PRODID:-//Wetskills Water Challenges - ECPv6.15.20//NONSGML v1.0//EN
CALSCALE:GREGORIAN
METHOD:PUBLISH
X-WR-CALNAME:Wetskills Water Challenges
X-ORIGINAL-URL:https://wetskills.com
X-WR-CALDESC:Events for Wetskills Water Challenges
REFRESH-INTERVAL;VALUE=DURATION:PT1H
X-Robots-Tag:noindex
X-PUBLISHED-TTL:PT1H
BEGIN:VTIMEZONE
TZID:UTC
BEGIN:STANDARD
TZOFFSETFROM:+0000
TZOFFSETTO:+0000
TZNAME:UTC
DTSTART:20160101T000000
END:STANDARD
END:VTIMEZONE
BEGIN:VEVENT
DTSTART;VALUE=DATE:20170903
DTEND;VALUE=DATE:20170918
DTSTAMP:20260420T181619
CREATED:20170327T062209Z
LAST-MODIFIED:20200505T090626Z
UID:10000093-1504396800-1505692799@wetskills.com
SUMMARY:Wetskills-Israel 2017
DESCRIPTION:About The Event\n[vc_single_image image=”50762″ img_size=”full” qode_css_animation=””][vc_empty_space image_repeat=”no-repeat”]Wetskills goes to Israel again!\nAfter four years Wetskills is back in Israel (link). Wetskills-Israel 2017: international participants from Israeli and Dutch universities worked in mixed teams on cases from Netafim (drip irrigation)\, Mekorot (pollutants in drinking water system) and Mey Avivim water company Tel Aviv (odor control). Our local host was again Grand Water Research Institute of Technion University in Haifa\, supported by the College of Sea of Galilee. \nAfter a nice Haifa Tour the participants went to some sites of national water carrier and Lake Kinnereth for water and cultural sites. As a kick-start of the working days\, the BrainHurricane was organized with speeddate sessions with various experts in the water industry. After this the teams went further with brainstorming. All teams had a dedicated field trip toabout the case as well.  \n\nThe Wetskills finals and awarding will be organized in the frame of the WATEC Conference and Exhibition in Tel Aviv: LINK. During a business reception at the residence of the Dutch Ambassador the teams pitched their solutions to a jury. Also the posters were displayed at the same time. The winning team was Oder Control with a concept to mitigate the odor from the sewer in Tel Aviv. \n\n\nMore information about the event and results\nFor more information contact Rick Hogeboom (rick.hogeboom@wetskills.com) or Johan Oost (johan.oost@wetskills.com). Read more on our daily blogs: Wetskills.com/event-blogs. \n[vc_empty_space height=”16px” image_repeat=”no-repeat”][no_blockquote text=”‘As is water\, Wetskills is also for everyone. Apart from the ground you visit\, you visit a different ‘world’ 🙂'” title_tag=”h3″ show_border=”no” show_quote_icon=”yes” text_color=”#ffffff” background_color=”#43dbbd” width=”95″ line_height=”40″ quote_icon_color=”#0076b2″]Practical Information\n[vc_single_image image=”50762″ img_size=”full” qode_css_animation=””][vc_empty_space image_repeat=”no-repeat”][no_button icon_pack=”font_awesome” fa_icon=”fa-facebook” icon_position=”right” target=”_self” font_weight=”” text=”Attend on Facebook” link=”https://www.facebook.com/events/1882143192055216/” icon_color=”#ffffff”][vc_empty_space height=”16px” image_repeat=”no-repeat”]Programme: Program Wetskills – Israel 2017 & Flyer Program Wetskills-Israel 2017 \nStudy cases: Overview of study cases Wetskills-Israel 2017 \nEvent: WATEC Israel \nVenue of presentation: Residence of Dutch Ambassador in Israel \nLocations: Haifa\, Sea of Galilee\, Lake Eshkol and Tel Aviv \nParticipants: 13 \nCases: 3 \nCountries: 3 (Israel\, The Netherlands and China) \n[vc_empty_space image_repeat=”no-repeat”]Pictures of the event\n[vc_single_image image=”50762″ img_size=”full” qode_css_animation=””][vc_empty_space image_repeat=”no-repeat”][vc_gallery type=”image_grid” images=”53252\,53254\,53248″ column_number=”4″ grayscale=”no” hover_icon=”none” images_space=”gallery_with_space”]Event Cases\n[vc_single_image image=”50762″ img_size=”full” qode_css_animation=””][vc_empty_space image_repeat=”no-repeat”]Case 1: Organic Matter in Irrigation Water\nCase owner: NETAFIM \nDrip irrigation is one of the most effective irrigation technologies to reduce the use of water\, fertilizer and other materials such as herbicides and pesticides\, and NETAFIM is a world leader in developing such irrigation solutions. The most common sources of water for irrigation are surface water (lakes and rivers) and groundwater (aquifers). However\, in some areas in the world\, treated wastewater is used. One of the main problems of using treated wastewater for irrigation is the high concentration of organic matter\, which may cause drippers to clog. It is up to the team to solve is how NETAFIM can deal with drippers clogging by organic matter when treated waste water is used as a source of irrigation\, in a simple\, cheap\, low maintenance and safe manner. \nCase 2: Bio-monitoring solutions to detect pollutants in drinking water systems\nCase owner: Mekorot \nIn protecting our drinking water supplies\, detection of source water contaminants plays a vital role for Mekorot\, Israel’s national water company. Accidental chemical spills\, extreme weather events\, terror threats\, and operational faults may all cause the spread of contaminants into the water supply system. We therefore use bio-monitoring systems (that is\, a system that can assess the toxicity of water samples by monitoring living organism behavior) to detect contaminants in the water supply system. It is up to the team to think of how Mekorot can create a new\, continuous\, online bio-monitoring system that will combine the use of aquatic organisms with cutting edge technology\, to provide early warning for contaminants entering a drinking water system. \nCase 3: Odor prevention on municipal sewage \nCase owner: Mey-Avivim\, Tel-Aviv Water Company \nSewage Typical Smell (STS) can cause a substantial nuisance to most human noses. When this kind of typical smell appears in the surroundings of a Wastewater Treatment Plant\, its origins are known and therefore can be specifically treated. On the other hand\, when STS appears in a municipal area\, its origins are much harder to detect and locate. In case repeated complaints from the same location are reported\, the TAWC will check a number of possible causes\, such as clogging\, dead animals\, or cross-connections between sewage and drainage systems. However\, in some cases the STS origins and causes are none of the above\, and are still left unidentified.  It is up to the team to think of a system that can detect and eliminate persistent Sewage Typical Smell in municipal areas. \n[vc_empty_space height=”16px” image_repeat=”no-repeat”]Final Poster and Pitch \n[vc_gallery interval=”3″ images=”53897″][vc_empty_space height=”8px” image_repeat=”no-repeat”]Final Poster and Pitch \n[vc_gallery interval=”3″ images=”53898″][vc_empty_space height=”8px” image_repeat=”no-repeat”]Final Poster and Pitch \n[vc_gallery interval=”3″ images=”53899″][vc_empty_space height=”8px” image_repeat=”no-repeat”][vc_empty_space image_repeat=”no-repeat”]Do you also want to submit a challenge and get an out-of-the-box concept (Pitch and Poster) in one of our Wetskills event worldwide? The Wetskills organization is looking for Case Owners for the events worldwide; companies\, knowledge institutes and organisations that formulate their case and support this Wetskills programme\, see as example: Leaflet Case Sponsors Wetskills-Israel 2017. For more information: contact Johan Oost (johan.oost@wetskills.com). \n[vc_single_image image=”52775″ img_size=”full” qode_css_animation=””]Previous event in Israel (2013)\n[vc_single_image image=”50762″ img_size=”full” qode_css_animation=””][vc_empty_space image_repeat=”no-repeat”][vc_gallery type=”image_grid” images=”907\,1383\,1384″ column_number=”5″ grayscale=”no” hover_icon=”none” images_space=”gallery_with_space”][vc_empty_space image_repeat=”no-repeat”][vc_gallery type=”image_grid” images=”1378\,1379\,1380\,1381″ column_number=”5″ grayscale=”no” hover_icon=”none” images_space=”gallery_with_space”][vc_empty_space image_repeat=”no-repeat”]Event Partners\n[vc_single_image image=”50762″ img_size=”full” qode_css_animation=””][vc_empty_space image_repeat=”no-repeat”][vc_single_image image=”52662″ img_size=”220×125″ style=”vc_box_rounded” qode_css_animation=””][vc_single_image image=”52653″ img_size=”220×125″ style=”vc_box_rounded” qode_css_animation=””][vc_single_image image=”52334″ img_size=”220×125″ style=”vc_box_rounded” qode_css_animation=””][vc_single_image image=”53115″ img_size=”220×125″ style=”vc_box_rounded” qode_css_animation=””][vc_empty_space image_repeat=”no-repeat”][vc_single_image image=”53114″ img_size=”220×125″ style=”vc_box_rounded” qode_css_animation=””][vc_single_image image=”53113″ img_size=”220×125″ style=”vc_box_rounded” qode_css_animation=””][vc_single_image image=”53218″ img_size=”220×125″ style=”vc_box_rounded” qode_css_animation=””][vc_single_image image=”52155″ img_size=”220×125″ style=”vc_box_rounded” qode_css_animation=””][vc_empty_space image_repeat=”no-repeat”][vc_single_image image=”52656″ img_size=”220×125″ style=”vc_box_rounded” qode_css_animation=””][vc_single_image image=”52257″ img_size=”220×125″ style=”vc_box_rounded” qode_css_animation=””][vc_single_image image=”52245″ img_size=”220×125″ style=”vc_box_rounded” qode_css_animation=””][vc_single_image image=”52243″ img_size=”220×125″ style=”vc_box_rounded” qode_css_animation=””]Event Blogs\n[vc_single_image image=”50762″ img_size=”full” qode_css_animation=””][vc_empty_space image_repeat=”no-repeat”][no_blog_list type=”boxes” image_size=”landscape” show_thumbnail=”yes” number_of_columns=”3″ overlay_icon=”1″ order_by=”date” order=”DESC” title_tag=”h5″ display_excerpt=”1″ info_position=”top” post_info_text_transform=”none” post_info_font_weight=”700″ post_info_font_style=”normal” display_category=”0″ display_date=”1″ date_place=”over_title” display_author=”0″ display_comments=”0″ display_button=”1″ icon_pack=”font_elegant” fe_icon=”arrow_right” button_icon_position=”right” vertical_align_text=”middle” date_position=”in_icon” border_around_item=”no” separator=”yes” display_circle_button=”1″ enable_circle_button_shaddow=”1″ number_of_posts=”3″ overlay_color=”rgba(0\,221\,207\,0.59)” text_length=”133″ post_info_color=”#43dbbd” post_info_font_family=”Montserrat” post_info_letter_spacing=”-0.5″ date_size=”21″ button_text=”READ MORE” box_info_padding=”40px 5px 5px 5px” post_info_font_size=”20″ title_size=”28″ title_color=”#0076b2″ button_color=”#ffffff” button_hover_color=”#ffffff” button_background_color=”#43dbbd” button_hover_background_color=”#0076b2″ button_border_color=”#43dbbd” button_hover_border_color=”#0076b2″ category=”wetskills-israel”]
URL:https://wetskills.com/event/wetskills-israel-2017/
LOCATION:Technion\, Haifa\, Israel
CATEGORIES:Upcoming event
ATTACH;FMTTYPE=image/jpeg:https://wetskills.com/wp-content/uploads/2017/03/26.-Group-picture-Wetskills-Israel-2017_.jpg
ORGANIZER;CN="Johan Oost":MAILTO:johan.oost@wetskills.com
END:VEVENT
END:VCALENDAR