BEGIN:VCALENDAR
VERSION:2.0
PRODID:-//Wetskills Water Challenges - ECPv6.15.20//NONSGML v1.0//EN
CALSCALE:GREGORIAN
METHOD:PUBLISH
X-ORIGINAL-URL:https://wetskills.com
X-WR-CALDESC:Events for Wetskills Water Challenges
REFRESH-INTERVAL;VALUE=DURATION:PT1H
X-Robots-Tag:noindex
X-PUBLISHED-TTL:PT1H
BEGIN:VTIMEZONE
TZID:UTC
BEGIN:STANDARD
TZOFFSETFROM:+0000
TZOFFSETTO:+0000
TZNAME:UTC
DTSTART:20190101T000000
END:STANDARD
END:VTIMEZONE
BEGIN:VEVENT
DTSTART;VALUE=DATE:20200913
DTEND;VALUE=DATE:20200924
DTSTAMP:20260413T172320
CREATED:20200330T191713Z
LAST-MODIFIED:20200925T135521Z
UID:10000115-1599955200-1600905599@wetskills.com
SUMMARY:Wetskills-The Netherlands 2020
DESCRIPTION:About The Event\n[vc_single_image image=”50762″ img_size=”full” qode_css_animation=””][vc_empty_space image_repeat=”no-repeat”]Wetskills again in Leeuwarden\, The Netherlands!\nThis event was organized in the beautiful and monumental City of Leeuwarden\, in the northern part of The Netherlands. Our hosts for this event in Leeuwarden were: WaterAlliance\, WaterCampus and Wetsus. \nThe teams started their program\, coronaproof\, on 13 September with three challenging cases:\n♦ Sustainable transport and mobility in the Wadden Sea area\n♦ Retaining water in sloping sandy areas\n♦ The Tourist as Co-creator for accelerating sustainable freshwater use \nVideo impression and online finals\n[vc_empty_space height=”12px” image_repeat=”no-repeat”][vc_empty_space height=”12px” image_repeat=”no-repeat”][vc_empty_space image_repeat=”no-repeat”]Information\n[vc_single_image image=”50762″ img_size=”full” qode_css_animation=””][vc_empty_space image_repeat=”no-repeat”]Programme Wetskills-The Netherlands 2020 \nLeaflet Wetskills – participants \nLeaflet Wetskills – case owners \n[vc_empty_space image_repeat=”no-repeat”][no_button icon_pack=”font_awesome” fa_icon=”fa-facebook” icon_position=”right” target=”_self” font_weight=”” text=”Attend on Facebook” link=”https://www.facebook.com/events/238777906867636/” icon_color=”#ffffff”][vc_empty_space image_repeat=”no-repeat”]Follow Wetskills\n[vc_single_image image=”50762″ img_size=”full” qode_css_animation=””][vc_empty_space image_repeat=”no-repeat”][no_icons icon_pack=”font_elegant” fa_icon=”fa-facebook” fa_size=”fa-lg” custom_size=”30″ type=”normal” rotated_shape=”no” icon_shadow=”no” inner_border=”no” back_to_top_icon=”” link=”https://www.facebook.com/Wetskills-496271977097972″ anchor_icon=”” target=”_blank” icon_color=”#0076b2″ hover_icon_color=”#43dbbd” margin=”0px 12px 0px 0px” fe_icon=”social_facebook”]     [no_icons icon_pack=”font_elegant” fa_icon=”fa-twitter” fa_size=”fa-lg” custom_size=”30″ type=”normal” rotated_shape=”no” icon_shadow=”no” inner_border=”no” back_to_top_icon=”” link=”http://twitter.com/wetskills” anchor_icon=”” target=”_blank” icon_color=”#0076b2″ hover_icon_color=”#43dbbd” margin=”0px 12px 0px 0px” fe_icon=”social_twitter”]     [no_icons icon_pack=”font_elegant” fa_icon=”fa-instagram” fa_size=”fa-lg” custom_size=”30″ type=”normal” rotated_shape=”no” icon_shadow=”no” inner_border=”no” back_to_top_icon=”” link=”https://www.instagram.com/wetskills/” anchor_icon=”” target=”_blank” icon_color=”#0076b2″ hover_icon_color=”#43dbbd” margin=”0px 12px 0px 0px” fe_icon=”social_instagram”]     [no_icons icon_pack=”font_elegant” fa_icon=”fa-twitter” fa_size=”fa-lg” custom_size=”30″ type=”normal” rotated_shape=”no” icon_shadow=”no” inner_border=”no” back_to_top_icon=”” link=”https://www.linkedin.com/groups/2949484″ anchor_icon=”” target=”_blank” icon_color=”#0076b2″ hover_icon_color=”#43dbbd” margin=”0px 12px 0px 0px” fe_icon=”social_linkedin”]     [no_icons icon_pack=”font_elegant” fa_icon=”fa-youtube-square” fe_icon=”social_youtube” fa_size=”fa-lg” custom_size=”30″ type=”normal” rotated_shape=”no” icon_shadow=”no” inner_border=”no” back_to_top_icon=”” link=”https://www.youtube.com/channel/UCJmPNM9roCkR1uvgJMHqpvA” anchor_icon=”” target=”_blank” icon_color=”#0076b2″ hover_icon_color=”#43dbbd” margin=”0px 12px 0px 0px”] \n[vc_empty_space image_repeat=”no-repeat”][vc_single_image image=”57824″ img_size=”full” qode_css_animation=””][vc_empty_space height=”12px” image_repeat=”no-repeat”][vc_gallery type=”image_grid” images=”57827\,57754\,57756\,57757″ column_number=”4″ grayscale=”no” hover_icon=”none” images_space=”gallery_with_space”]Event Blogs\n[vc_single_image image=”50762″ img_size=”full” qode_css_animation=””][vc_empty_space image_repeat=”no-repeat”][no_blog_list type=”boxes” image_size=”landscape” show_thumbnail=”yes” number_of_columns=”3″ overlay_icon=”1″ order_by=”date” order=”DESC” title_tag=”h5″ display_excerpt=”1″ info_position=”top” post_info_text_transform=”none” post_info_font_weight=”700″ post_info_font_style=”normal” display_category=”0″ display_date=”1″ date_place=”over_title” display_author=”0″ display_comments=”0″ display_button=”1″ icon_pack=”font_elegant” fe_icon=”arrow_right” button_icon_position=”right” number_of_posts=”6″ overlay_color=”rgba(0\,221\,207\,0.59)” category=”Wetskills Netherlands 2020″ text_length=”180″ title_size=”28″ title_color=”#0076b2″ post_info_font_size=”20″ post_info_color=”rgba(0\,221\,207\,0.59)” post_info_font_family=”Montserrat” post_info_letter_spacing=”-0\,5″ date_size=”21″ box_info_padding=”40px 5px 5px 5px” button_text=”READ MORE” button_background_color=”rgba(0\,221\,207\,0.59)” button_hover_background_color=”#0076b2″ button_border_color=”rgba(0\,221\,207\,0.59)” button_hover_border_color=”#0076b2″]Event Cases\n[vc_single_image image=”50762″ img_size=”full” qode_css_animation=””][vc_empty_space image_repeat=”no-repeat”]Case 1: Sustainable transport and mobility in the Wadden Sea area\nCase owner: Programma Naar Een Rijke Waddenzee (Programme towards a Rich Wadden Sea) \nThe Wadden Sea (UNESCO World Heritage) is a natural resource in the northern part of The Netherlands and neighboring countries Germany and Denmark. It is the largest unbroken system of intertidal sand and mud flats in the world. The area also contains other functions like living areas\, tourist destination and fishing. The current ferry transportation is considered as unsustainable and fossil fuel driven plus there is an ecological impact on the seabed due to dredging. Sustainable mobility and transportation in this shallow tidal system is necessary to create and keep a habitable environment\, a sustainable economy on the islands and a resilient ecology in the Wadden Sea. An inventory to worldwide examples has been executed\, now it is up to the Wetskills team on how some parts of these inspiring example(s) can help us design an ultimate sustainable mobility concept(s) for the Dutch Wadden Sea and Islands to inspire further transition! \nCase 2: Don’t let it go! Retaining water in sloping sandy areas\nCase owner: Wetterskip Fryslan \nThe Province of Friesland is used to draining water to the sea. Due to the recent dry years\, it turns out that the sloping sandy areas in the South East drain to fast and have troubles in retaining the water. That is why Wetterskip Fryslan\, four municipalities\, the Province and the national government have made a deal: ‘Regiodeal South East Friesland’. They will invest in measures to help slowing down the water and help it infiltrate to build up a reserve in the groundwater. How can this coalition find applicable and effective solutions for retaining water in this area\, being technical\, infrastructural\, ecological or maybe even social? \nCase 3: The Tourist as Co-creator for accelerating sustainable freshwater use\nCase owner: Province of Fryslân \nIslands in the Wadden Sea have a restricted amount of freshwater availability\, due to saline boundaries of the sea. Islanders are used to utilising this water in a self-sufficient way for generations. Due to extensive tourism\, more resources from the islands are being exploited and more products from the mainland are being requested. As ‘money spender’ or ‘income bringer’ the tourist plays a large role in the choice and number of products\, manufactured locally and/or sustainably with less water. How can the islands activate tourists becoming the co-creator and do-er for new ways of water conservation (also in an inspiring and fun way)? \nPitch & Poster\n[vc_single_image image=”57846″ img_size=”full” qode_css_animation=””]Pitch & Poster\n[vc_single_image image=”57847″ img_size=”full” qode_css_animation=””]Pitch & Poster\n\n[vc_single_image image=”57848″ img_size=”full” qode_css_animation=””]Event Partners\n[vc_single_image image=”50762″ img_size=”full” qode_css_animation=””][vc_empty_space image_repeat=”no-repeat”][vc_single_image image=”54075″ img_size=”220×125″ style=”vc_box_rounded” qode_css_animation=””][vc_single_image image=”53767″ img_size=”220×125″ style=”vc_box_rounded” qode_css_animation=””][vc_single_image image=”54085″ img_size=”220×125″ style=”vc_box_rounded” qode_css_animation=””][vc_single_image image=”52334″ img_size=”220×125″ style=”vc_box_rounded” qode_css_animation=””][vc_empty_space image_repeat=”no-repeat”][vc_single_image image=”57352″ img_size=”220×125″ style=”vc_box_rounded” qode_css_animation=””][vc_single_image image=”57353″ img_size=”220×125″ style=”vc_box_rounded” qode_css_animation=””][vc_single_image image=”57662″ img_size=”220×125″ style=”vc_box_rounded” qode_css_animation=””][vc_single_image image=”53766″ img_size=”220×125″ style=”vc_box_rounded” qode_css_animation=””][vc_empty_space image_repeat=”no-repeat”][vc_single_image image=”52243″ img_size=”220×125″ style=”vc_box_rounded” qode_css_animation=””][vc_single_image image=”53101″ img_size=”220×125″ style=”vc_box_rounded” qode_css_animation=””][vc_single_image image=”56621″ img_size=”220×125″ style=”vc_box_rounded” qode_css_animation=””][vc_single_image image=”57060″ img_size=”220×125″ style=”vc_box_rounded” qode_css_animation=””]Previous Wetskills events in The Netherlands\n[vc_single_image image=”50762″ img_size=”full” qode_css_animation=””][vc_empty_space image_repeat=”no-repeat”][vc_gallery type=”image_grid” images=”51642\,2384\,2371\,2367\,2327″ column_number=”5″ grayscale=”no” hover_icon=”none” images_space=”gallery_with_space”][vc_empty_space image_repeat=”no-repeat”]
URL:https://wetskills.com/event/wetskills-the-netherlands-leeuwarden-2020/
LOCATION:WaterCampus Leeuwarden\, Oostergoweg 7\, Leeuwarden\, Fryslân\, 8911 MA\, Netherlands
CATEGORIES:Past event
ATTACH;FMTTYPE=image/jpeg:https://wetskills.com/wp-content/uploads/2018/04/WaterCampus-Leeuwarden-Wetsus.jpg
ORGANIZER;CN="Johan Oost":MAILTO:johan.oost@wetskills.com
END:VEVENT
END:VCALENDAR