BEGIN:VCALENDAR
VERSION:2.0
PRODID:-//Wetskills Water Challenges - ECPv6.15.20//NONSGML v1.0//EN
CALSCALE:GREGORIAN
METHOD:PUBLISH
X-WR-CALNAME:Wetskills Water Challenges
X-ORIGINAL-URL:https://wetskills.com
X-WR-CALDESC:Events for Wetskills Water Challenges
REFRESH-INTERVAL;VALUE=DURATION:PT1H
X-Robots-Tag:noindex
X-PUBLISHED-TTL:PT1H
BEGIN:VTIMEZONE
TZID:UTC
BEGIN:STANDARD
TZOFFSETFROM:+0000
TZOFFSETTO:+0000
TZNAME:UTC
DTSTART:20170101T000000
END:STANDARD
END:VTIMEZONE
BEGIN:VEVENT
DTSTART;VALUE=DATE:20190315
DTEND;VALUE=DATE:20190326
DTSTAMP:20260424T125520
CREATED:20181202T100623Z
LAST-MODIFIED:20230213T094207Z
UID:10000107-1552608000-1553558399@wetskills.com
SUMMARY:Wetskills-Oman 2019
DESCRIPTION:About The Event\n[vc_single_image image=”50762″ img_size=”full” qode_css_animation=””][vc_empty_space image_repeat=”no-repeat”]Time for another Wetskills Challenge back in the Sultanate of Oman\, the country of Arab horses\, 3\,156 kilometers coastline\, kingfish and kebab\, fjord-like landscape (the Norway of the Middle East!)\, aromas and knives (khanjar\, no worries – now a days only worn forceremonial events). But Oman is also a country with severe challenges\, including droughts and water scarcity\, water salinity and desertification. As one of the oldest human-inhabited places in the world\, Oman now faces the impact of human development. Those challenges cannot be addressed without considering water\, energy and food as an integrated whole (nexus) and Oman is very well aware of that. Oman and the rest of the Gulf region are excelling with their WEF nexus approach and this offers a great context for our next Wetskills Challenge. \nFrom 15-25 March 2019 this new edition was organised in Muscat\, together with local Wetskills host Sultan Qaboos University. We also teamed up with the Embassy of The Kingdom of The Netherlands and Omani partners MEDRC\, PDO\, Haya water and Omani Water Society. This Wetskills event was dedicated to the Central theme: ‘Water-Energy-Food Nexus’ (also the theme of the WorldExpo Dubai 2020\, where Wetskills Foundation will be present as well). The final presentations was in line to the Celebration of the World Water Day 2019. The Wetskills program included workshops\, team building\, field trips to cases and water areas\, meetings and discussions with people in the field\, and water-related and cultural visits in and outside Muscat\, Haya Water wetlands and the PDO Museum. \n[vc_empty_space height=”16px” image_repeat=”no-repeat”]Practical information\n[vc_single_image image=”50762″ img_size=”full” qode_css_animation=””][vc_empty_space height=”16px” image_repeat=”no-repeat”]Program Wetskills-Oman 2019 \nPress release: Wetskills-Oman 2019 on Water-Energy-Food nexus \n[vc_empty_space height=”16px” image_repeat=”no-repeat”][vc_empty_space height=”16px” image_repeat=”no-repeat”]General Wetskills information\n[vc_single_image image=”50762″ img_size=”full” qode_css_animation=””][vc_empty_space image_repeat=”no-repeat”]Wetskills leaflet and track record \n[vc_empty_space height=”16px” image_repeat=”no-repeat”]	\n		\n							\n								\n			\n	\n		\n							\n								\n			\n	\n		\n							\n								\n			\n	\n		\n							\n								\n			\n	\n		\n							\n								\n			\n	\n		\n							\n								\n			\n	\n		\n							\n								\n			\n	\n		\n							\n								\n			\n	\n		\n	\n		\n	[vc_empty_space image_repeat=”no-repeat”]Wetskills-Oman started with speed date discussions with water experts\, field visits and team building – and lots of opportunites for informal talks\, enjoying the old buildings and beautiful view of surroundings.\nPhoto’s row 1 | Group picture of Wetskills teams Oman 2019 | Team 5\, case Dutch Water Authorities on drought management\, in discussion with Mr Jauad El Kharraz\, director of research Middle East Desalination Research Center (MEDRC) in Muscat\, Oman | Dates\, important export product of Oman | Nakhal Fort in mountain area Oman\nPhoto’s row 2 | Hotsping near Rustaq\, teambuilding with feet in 65 °C water | Field visit to hotspring with small cascade\, enjoying and experiencing the importance of water in Oman | Water management: wadi\, with water only during heavy rain\, and a cross over road for the wadi \n[vc_empty_space image_repeat=”no-repeat”]Winning Team at the Awarding Ceremony\n[vc_empty_space image_repeat=”no-repeat”]At the Awarding Ceremony\, the jury congratulated all teams with the teamwork and the out-of-the-box solutions they presented. The final winner was the team working on Case 2\, finding a solution for Groundwater resources management for future water resilience. \nTrue Value of Water (TVW) – Team 2 worked on a PDO case to develop a straightforward and easy to implement method to assist water authorities to better characterize and allocate available groundwater resources in the Sultanate of Oman. What they developed is method based on a single\, meaningful monetary unit\, the True Value of Water (TVW). This new method quantifies the monetary value of aquifers\, linked to costs – the value of the energy required – to desalinate water. \nRead more > \nCases for Wetskills-Oman 2019\n[vc_single_image image=”50762″ img_size=”full” qode_css_animation=””][vc_empty_space image_repeat=”no-repeat”]Case 1: Modular wastewater treatment units for flexible water quality improvement\nCase owner: Waterschapsbedrijf Limburg (WBL)\, developer of the Verdygo concept (The Netherlands) \nOman has a large desert area with nomadic tribes\, remote villages and oil production fields where water is scarce\, but also treatment of wastewater is a challenge. Verdygo is a new\, modular technology especially developed for flexible and cost effective water treatment. It is a design with modular\, container-sized sewage plant above ground and each container has different wastewater treatment techniques. This makes it possible to design your own modular Sewage Treatment Plant that fulfills specific needs\, is flexible and transportable. How could Vergygo contribute to improve the water quality in parts if Oman? \nFinal poster \nCase 2: Groundwater resources management for future water resilience\nCase owner: PDO (Oman) \nGroundwater is a scarce commodity in Oman. There is an urgent need to preserve it\, because of predicted water stress in the future and the potency of using groundwater for multiple uses. There are currently no clear and integrated guidelines to distinguish between exploitable and non-exploitable aquifers. How could Oman create a framework for an effective and sustainable groundwater resources management to protect the natural resources\, provide industry and citizens a reliable water source? \nFinal poster \nCase 3: Converting sludge to (renewable) energy\nCase owner: Haya Water (Oman) \nThe concept of energy from waste is getting popular across the globe nowadays. This concept is relevant in countries like Oman\, for minimization of their oil dependence. Moreover\, ‘waste to energy’ becomes a need within the new governmental vision 2040: encouraging renewable energy production. The implementation of methods at wastewater treatment facilities in regonal governarates is becoming a prominent challenge since the amount of sludge disposal is high and it poses environmental hazards. How could Haya Water create a practical model for effective renewable energy technologies of utilizing sludge and thus minimizing the dependence on electricity? \nFinal poster \n[vc_empty_space image_repeat=”no-repeat”]Case 4: Is it worth the water? Water sustainable Omani export products\nCase owner: Oman Water Society & Water Footprint Implementation \nOman is water scarce country\, with limited natural endowments. Water managers and policy makers should therefore closely monitor who is using the available resources and what for. At the same time\, Oman boasts a booming export sector that ships products that are proudly made in Oman to all corners of the Earth. Clearly the financial metrics look good – otherwise the products wouldn’t be sold for export. But how do these products score on water metrics? What is the water footprint of Oman’s most popular export products? What is the economic water productivity of this water that is virtually traded in exported products? How can Oman’s export become water sustainable? \nFinal poster \nCase 5: Droughts are everyone’s challenge\nCase owner: Dutch Water Authorities\n \nOman has a long tradition of coping with water stress and periods of severe droughts. They are experts in drought management. The Netherlands\, on the other hand\, is a water-rich country with a long-standing history of combatting floods and trying to keep our feet dry. They are experts in water management. Perhaps surprisingly\, the Netherlands is becoming more vulnerable for droughts too\, as the summer of 2018 showed. In their attempts to fight the effects of drought\, the Dutch applied their water management concepts and ideas that include stakeholder involvement and public participation a.o.. But does this Dutch approach work for droughts? Is water management different from drought management? How can both countries learn from each other’s historical battles with water? \nFinal poster \n[vc_empty_space image_repeat=”no-repeat”]Event Partners\n[vc_single_image image=”50762″ img_size=”full” qode_css_animation=””][vc_empty_space image_repeat=”no-repeat”][vc_single_image image=”53049″ img_size=”220×125″ style=”vc_box_rounded” qode_css_animation=””][vc_single_image image=”53546″ img_size=”220×125″ style=”vc_box_rounded” qode_css_animation=””][vc_single_image image=”53806″ img_size=”220×125″ style=”vc_box_rounded” qode_css_animation=””][vc_single_image image=”52334″ img_size=”220×125″ style=”vc_box_rounded” qode_css_animation=””][vc_empty_space image_repeat=”no-repeat”][vc_single_image image=”52711″ img_size=”220×125″ style=”vc_box_rounded” qode_css_animation=””][vc_single_image image=”54949″ img_size=”220×125″ style=”vc_box_rounded” qode_css_animation=””][vc_single_image image=”53810″ img_size=”220×125″ style=”vc_box_rounded” qode_css_animation=””][vc_single_image image=”55011″ img_size=”220×125″ style=”vc_box_rounded” qode_css_animation=””][vc_empty_space image_repeat=”no-repeat”][vc_single_image image=”55015″ img_size=”220×125″ style=”vc_box_rounded” qode_css_animation=””][vc_single_image image=”54106″ img_size=”220×125″ style=”vc_box_rounded” qode_css_animation=””][vc_single_image image=”52240″ img_size=”220×125″ style=”vc_box_rounded” qode_css_animation=””][vc_single_image image=”52155″ img_size=”220×125″ style=”vc_box_rounded” qode_css_animation=””][vc_empty_space image_repeat=”no-repeat”][vc_single_image image=”52155″ img_size=”220×125″ style=”vc_box_rounded” qode_css_animation=””][vc_single_image image=”52257″ img_size=”220×125″ style=”vc_box_rounded” qode_css_animation=””][vc_single_image image=”52245″ img_size=”220×125″ style=”vc_box_rounded” qode_css_animation=””][vc_single_image image=”52318″ img_size=”220×125″ style=”vc_box_rounded” qode_css_animation=””][vc_empty_space image_repeat=”no-repeat”][vc_gallery type=”image_grid” images=”53942\,52729\,53941\,53944\,54881″ column_number=”5″ grayscale=”no” hover_icon=”none” images_space=”gallery_with_space”]Event Blogs\n[vc_single_image image=”50762″ img_size=”full” qode_css_animation=””][vc_empty_space image_repeat=”no-repeat”]
URL:https://wetskills.com/event/wetskills-oman-2019/
LOCATION:Sultan Qaboos University\, Al Khoudh\, Muscat 123\, Muscat\, Oman
CATEGORIES:Past event
ATTACH;FMTTYPE=image/jpeg:https://wetskills.com/wp-content/uploads/2019/03/2019-Oman-1.jpg
ORGANIZER;CN="Johan Oost":MAILTO:johan.oost@wetskills.com
END:VEVENT
BEGIN:VEVENT
DTSTART;VALUE=DATE:20180320
DTEND;VALUE=DATE:20180326
DTSTAMP:20260424T125520
CREATED:20170530T193000Z
LAST-MODIFIED:20180405T075959Z
UID:10000094-1521504000-1522022399@wetskills.com
SUMMARY:SunGlacier Challenge in Oman
DESCRIPTION:About The Event\n[vc_single_image image=”50762″ img_size=”full” qode_css_animation=””][vc_empty_space image_repeat=”no-repeat”]A global challenge to accelerate dew harvesting techniques that the world needs!\nThe partners of the SunGlacier Challenge invited teams of universities worldwide to join this unique challenge in Oman (20-25 March 2018) to make water from the air! Eventually 3 Dutch and Omani teams created their own SunGlacier (based on some provides techniques). On 22 March the challenge started with the 48 hours run. Main goal: going further with the latest techniques to provide the world with a new\, reliable and cheap water source! \nRead the daily blogs about the event and the experiences of participants and challenge partners or follow the Wetskills Social Media (Twitter\, Facebook and Instagram). \n\n  \nThis edition is the pilot of a five year programme. The partners aim to organize this SunGlacier Challenge yearly to speed up the information\, insights and knowledge of this technique for water supply. If you are interested\, contact Johan Oost (johan.oost@wetskills.com). \n[vc_empty_space image_repeat=”no-repeat”]Practical information\n[vc_single_image image=”50762″ img_size=”full” qode_css_animation=””][vc_empty_space image_repeat=”no-repeat”][no_button icon_pack=”font_awesome” fa_icon=”fa-facebook” icon_position=”right” target=”_self” font_weight=”” text=”Attend on Facebook” link=”https://www.facebook.com/events/1887814874789933/” icon_color=”#ffffff”][vc_empty_space height=”16px” image_repeat=”no-repeat”]Programme:  \n\n20 March: Arrival\n21 March: Welcome\, preparation and testing\n22 March: Workshop at MEDRC\, start 48 hour run\n23 March: check devices\, cultural and social programme\n24 March: End of 48 run\, preparing for presentation\, Farewell dinner\n25 March: World Water Day celebration Sultan Qaboos University\, presentation\, awarding winners\n\n[vc_empty_space image_repeat=”no-repeat”][vc_empty_space image_repeat=”no-repeat”]Background\nIn 2010 Artist Ap Verheggen started the “Art meets Science” project SunGlacier: Harvest Water from Air\, fully powered by Solar Energy. With a team of volunteering experts ‘the SunGlacier Team’ he tested the limits to investigate how small and cheap we can build a water harvest machine that is off-grid\, powered by solar energy. Because solar energy can be limited and variable – with cloud cover and night cycles – we faced the challenge to use all energy as efficient as possible. The first SunGlacier sculpture is built with existing\, off-the-shelf technology\, but the latest versions are built with our own custom-designed technology. \nAp Verheggen combined design and technology and built several prototypes and one of them: “DC03” even runs without a battery\, a convertor\, or a fan. So nearly no maintenance and nothing can break. A cheap Peltier cooler is directly connected to a small solar panel and it makes drops of water. This technology is so promising because of low costs and durable components that Ap published all details on his website www.SunGlacier.com \nSunGlacier Challenge\nThe accelerate the speed of development of this promising SunGlacier technology\, some partners joined forces and decided to launch the SunGlacier Challenge\, with the goal to produce water out of air\, powered by solar energy. The competition location will be Oman\, with the partner Sultan Qaboos University. \nThe partners invite teams teams of university students\, young professionals from knowledge institutes or groups of friends in the field to build their own SunGlacier and join this competition. Note: The participants needs to be younger than 35 years. \nProgramme: Challenge\, Conference and social activities\nAfter the SunGlacier Challenge a Conference will be organized to learn more about the techniques from each other. Experts will be asked to join the Conference programme. \nIn the SunGlacier Challenge programme various social and cultural activities will be organized to meet each other and experience the culture and country of Oman. \n[vc_empty_space image_repeat=”no-repeat”][vc_empty_space image_repeat=”no-repeat”][vc_gallery type=”image_grid” images=”53058\,53057\,53056\,53055″ column_number=”5″ grayscale=”no” hover_icon=”none” images_space=”gallery_with_space”][vc_empty_space image_repeat=”no-repeat”]The Rules\n[vc_single_image image=”50762″ img_size=”full” qode_css_animation=””][vc_empty_space image_repeat=”no-repeat”]The techniques\nThe techniques of SunGlacier will be public here. This is the basic information to use for your own SunGlacier. You can also make your own SunGlacier! \nThe competition\nMaximum 15 teams from various countries worldwide will be selected for this event. \nEvery team will get a standard solar pannel of 50 or 250 Watt (peak). Panel can turn with the sun if designed. A Peltier element (if used) can be replaced one time\, when broken. The winner of the competition is based on a 48 hours run for 50 or 250 Watt. \nSunGlacier is an Art Project so a special award will be provided for “best design” (based on a jury’s decision under chair of Ap Verheggen). \nThe prices will be announced in a later stage\, after attracting more partners. \nApplication deadlines\nThe official registration is via the registration button of this website. If you are interested as and/or already formed a team\, please send Mr. Tim van der Staaij an email. \nCosts\nThe participation of this challenge and the conference afterwards is free. Project partners and Sponsors will cover the costs. \nHowever the travel of the student team and the SunGlacier\, the accommodation and daily costs needs to be paid by the participating team. The team is allowed to find sponsors. \nMore information\nFor more information about participation as team or university\, please contact Marcel Rompelman (marcel.rompelman@wetskills.com). \nFor other information about companies as potential partner\, please contact Johan Oost (johan.oost@wetskills.com). \n[vc_empty_space image_repeat=”no-repeat”]Call for partners\n[vc_single_image image=”50762″ img_size=”full” qode_css_animation=””][vc_empty_space image_repeat=”no-repeat”]The SunGlacier Challenge organization is looking for partners to step in the Challenge for the coming 5 years!\nWould you as company\, university\, knowledge institute\, government and/or NGO like to step in to make this SunGlacier Challenge a success? Do you think that dew harvesting will contribute to the cocktail of water sources? Would you like to meet Young Talents? Please join the SunGlacier as partner. \nMore information\nMore information about the sponsorship requirements and other information to become potential partner\, please contact Johan Oost (johan.oost@wetskills.com). \n[vc_empty_space image_repeat=”no-repeat”]Event Partners\n[vc_single_image image=”50762″ img_size=”full” qode_css_animation=””][vc_empty_space image_repeat=”no-repeat”][vc_single_image image=”53810″ img_size=”220×125″ style=”vc_box_rounded” qode_css_animation=””][vc_single_image image=”53546″ img_size=”220×125″ style=”vc_box_rounded” qode_css_animation=””][vc_single_image image=”53049″ img_size=”220×125″ style=”vc_box_rounded” qode_css_animation=””][vc_single_image image=”53806″ img_size=”220×125″ style=”vc_box_rounded” qode_css_animation=””][vc_empty_space image_repeat=”no-repeat”][vc_single_image image=”52246″ img_size=”220×125″ style=”vc_box_rounded” qode_css_animation=””][vc_single_image image=”52334″ img_size=”220×125″ style=”vc_box_rounded” qode_css_animation=””][vc_single_image image=”52243″ img_size=”220×125″ style=”vc_box_rounded” qode_css_animation=””][vc_single_image image=”52318″ img_size=”220×125″ style=”vc_box_rounded” qode_css_animation=””][vc_empty_space image_repeat=”no-repeat”][vc_single_image image=”52257″ img_size=”220×125″ style=”vc_box_rounded” qode_css_animation=””][vc_single_image image=”52155″ img_size=”220×125″ style=”vc_box_rounded” qode_css_animation=””][vc_single_image image=”52155″ img_size=”220×125″ style=”vc_box_rounded” qode_css_animation=””][vc_single_image image=”52155″ img_size=”220×125″ style=”vc_box_rounded” qode_css_animation=””]
URL:https://wetskills.com/event/sunglacier-challenge/
LOCATION:Sultan Qaboos University\, Al Khoudh\, Muscat 123\, Muscat\, Oman
CATEGORIES:Past Tailored event
ATTACH;FMTTYPE=image/jpeg:https://wetskills.com/wp-content/uploads/2018/03/in-action_.jpg
ORGANIZER;CN="Johan Oost":MAILTO:johan.oost@wetskills.com
END:VEVENT
END:VCALENDAR